BEGIN:VCALENDAR
VERSION:2.0
PRODID:-//ChamberMaster//Event Calendar 2.0//EN
METHOD:PUBLISH
X-PUBLISHED-TTL:P3D
REFRESH-INTERVAL:P3D
CALSCALE:GREGORIAN
BEGIN:VEVENT
DTSTART:20191207T150000Z
DTEND:20191207T200000Z
X-MICROSOFT-CDO-ALLDAYEVENT:FALSE
SUMMARY:Friske's Celebrates Christmas in Atwood
DESCRIPTION:Join in the holiday fun at Friske Farm Market as we celebrate Christmas in Atwood.  Holiday Tasting Table  Cookie Decorating  Christmas Face Painting  Storytime with Buddy the Elf  Christmas Sing-A-Long Being the kids and enjoy!
X-ALT-DESC;FMTTYPE=text/html:Join in the holiday fun at Friske Farm Market as we celebrate Christmas in Atwood. &bull\;Holiday Tasting Table &bull\;Cookie Decorating &bull\;Christmas Face Painting &bull\;Storytime with Buddy the Elf &bull\;Christmas Sing-A-Long Being the kids and enjoy!
LOCATION:Friske Farm Market 10 Miles S of Charlevoix
UID:e.2409.22286
SEQUENCE:3
DTSTAMP:20260419T142749Z
URL:https://business.elkrapidschamber.org/events/details/friske-s-celebrates-christmas-in-atwood-22286
END:VEVENT

END:VCALENDAR
