BEGIN:VCALENDAR
VERSION:2.0
PRODID:-//ChamberMaster//Event Calendar 2.0//EN
METHOD:PUBLISH
X-PUBLISHED-TTL:P3D
REFRESH-INTERVAL:P3D
CALSCALE:GREGORIAN
BEGIN:VEVENT
DTSTART:20200926T120000Z
DTEND:20200926T210000Z
X-MICROSOFT-CDO-ALLDAYEVENT:FALSE
SUMMARY:Friske Harvest Festival
DESCRIPTION:FOOD. FALL. FAMILY. FUN on the FARM! Crisp\, cool weather....crunchy\, juicy\, flavor-full apples...mountains of pumpkins...not homemade donuts...fresh-pressed cider...wagon rides...live music...u-pick apples...kids activities\, special Cafe menu\, caramel apples and MORE!
X-ALT-DESC;FMTTYPE=text/html:FOOD. FALL. FAMILY. FUN on the FARM! Crisp\, cool weather....crunchy\, juicy\, flavor-full apples...mountains of pumpkins...not homemade donuts...fresh-pressed cider...wagon rides...live music...u-pick apples...kids activities\, special Cafe menu\, caramel apples and MORE!
LOCATION:Friske Farm Market 10 Miles South of Charlevoix on US 31 in Atwood
UID:e.2409.23074
SEQUENCE:3
DTSTAMP:20260422T043611Z
URL:https://business.elkrapidschamber.org/events/details/friske-harvest-festival-23074
END:VEVENT

END:VCALENDAR
