BEGIN:VCALENDAR
VERSION:2.0
PRODID:-//ChamberMaster//Event Calendar 2.0//EN
METHOD:PUBLISH
X-PUBLISHED-TTL:P3D
REFRESH-INTERVAL:P3D
CALSCALE:GREGORIAN
BEGIN:VEVENT
DTSTART:20201003T120000Z
DTEND:20201003T210000Z
X-MICROSOFT-CDO-ALLDAYEVENT:FALSE
SUMMARY:Friske Fall Festival
DESCRIPTION:FRISKE FALL FESTIVAL Saturday\, October 3.  Crisp\, cool weather! Crunchy\, juicy\, flavor-full apples! Hot\, fresh donuts ..basically all your FALL FAVORITES! Live Music with Scott Hankins   Wagon Rides   U-Pick Apples   Pumpkins  Apple Streusel Pancake Breakfast   Pumpkin Spice & Apple Cider Donuts\, Fresh-Pressed Cider   Caramel Apples   Giant Apple Slingshot   Big Apple Balloon   Special Cafe' Lunch Menu   Specialty Food & Gift Shopping Spend the day and EAT   SHOP   PLAY the Friske way!
X-ALT-DESC;FMTTYPE=text/html:FRISKE FALL FESTIVAL Saturday\, October 3.&nbsp\; Crisp\, cool weather! Crunchy\, juicy\, flavor-full apples! Hot\, fresh donuts&hellip\;..basically all your FALL FAVORITES! Live Music with Scott Hankins &bull\; Wagon Rides &bull\; U-Pick Apples &bull\; Pumpkins &bull\;Apple Streusel Pancake Breakfast &bull\; Pumpkin Spice &amp\; Apple Cider Donuts\, Fresh-Pressed Cider &bull\; Caramel Apples &bull\; Giant Apple Slingshot &bull\; Big Apple Balloon &bull\; Special Cafe&#39\; Lunch Menu &bull\; Specialty Food &amp\; Gift Shopping Spend the day and EAT &bull\; SHOP &bull\; PLAY the Friske way!
LOCATION:Friske Farm Market 10743 N US Hwy 31 Ellsworth\, MI (just 9 miles south of Charlevoix)
UID:e.2409.24090
SEQUENCE:3
DTSTAMP:20260422T025400Z
URL:https://business.elkrapidschamber.org/events/details/friske-fall-festival-24090
END:VEVENT

END:VCALENDAR
