BEGIN:VCALENDAR
VERSION:2.0
PRODID:-//ChamberMaster//Event Calendar 2.0//EN
METHOD:PUBLISH
X-PUBLISHED-TTL:P3D
REFRESH-INTERVAL:P3D
CALSCALE:GREGORIAN
BEGIN:VEVENT
DTSTART:20230921T210000Z
DTEND:20230921T230000Z
X-MICROSOFT-CDO-ALLDAYEVENT:FALSE
SUMMARY:Fresh Coast Quarterly Club at Short's Pull Barn
DESCRIPTION:Fresh Coast is looking forward to an evening connecting with newcomers and familiar faces alike while highlighting several Elk Rapids area small business and lifestyle assets.  Hear from Scotty Berry and Liz Blume about their entrepreneurial journeys in the Grand Traverse Region.
X-ALT-DESC;FMTTYPE=text/html:Fresh Coast is looking forward to an evening connecting with newcomers and familiar faces alike while highlighting several Elk Rapids area small business and lifestyle assets.&nbsp\; Hear from Scotty Berry and Liz Blume about their entrepreneurial journeys in the Grand Traverse Region.
LOCATION:
UID:e.2409.38987
SEQUENCE:3
DTSTAMP:20260419T222159Z
URL:https://business.elkrapidschamber.org/events/details/fresh-coast-quarterly-club-at-short-s-pull-barn-38987
END:VEVENT

END:VCALENDAR
