BEGIN:VCALENDAR
VERSION:2.0
PRODID:-//ChamberMaster//Event Calendar 2.0//EN
METHOD:PUBLISH
X-PUBLISHED-TTL:P3D
REFRESH-INTERVAL:P3D
CALSCALE:GREGORIAN
BEGIN:VEVENT
DTSTART:20190810T160000Z
DTEND:20190810T200000Z
X-MICROSOFT-CDO-ALLDAYEVENT:FALSE
SUMMARY:FREE Second Saturday
DESCRIPTION:Come play in the hands-on museum\, hold the animals and explore the outdoor exhibits. Families are admitted free. No groups please.
X-ALT-DESC;FMTTYPE=text/html:Come play in the hands-on museum\, hold the animals and explore the outdoor exhibits. Families are admitted free. No groups please.
LOCATION:Raven Hill Discovery Center 4737 Fuller Road East Jordan\, MI 49727
UID:e.2409.19719
SEQUENCE:3
DTSTAMP:20260423T094241Z
URL:https://business.elkrapidschamber.org/events/details/free-second-saturday-08-10-2019-19719
END:VEVENT

END:VCALENDAR
