BEGIN:VCALENDAR
VERSION:2.0
PRODID:-//ChamberMaster//Event Calendar 2.0//EN
METHOD:PUBLISH
X-PUBLISHED-TTL:P3D
REFRESH-INTERVAL:P3D
CALSCALE:GREGORIAN
BEGIN:VEVENT
DTSTART;VALUE=DATE:20230610
DTEND;VALUE=DATE:20230612
TRANSP:TRANSPARENT
X-MICROSOFT-CDO-ALLDAYEVENT:TRUE
SUMMARY:Free Fishing Weekend
DESCRIPTION:Enjoy Free Fishing Weekend!\n\n\n\n\n\n\n\n\nTwo days twice a year\, families and friends can enjoy one of Michigan's premier outdoor activities\, Michigan Fishing\, for FREE!\n\nFree Fishing Weekend dates for 2023 are: Feb. 18 and 19 and June 10 and 11. All fishing license fees will be waived for two days. Residents and out-of-state visitors may enjoy fishing on both inland and Great Lakes waters for all species of fish. All fishing regulations will still apply.\n\nA Recreation Passport will NOT be required for entry into state parks and boating access sites during Free Fishing Weekends. \n\nCheck out a fishing program at a state park! \n\nGoing ice fishing during the February Free Fishing Weekend? Make sure to review our ice safety tips. \n\nThree Free Weekend\n\nFree Fishing Weekend on June 10 and 11\, 2023 is held in conjunction with "Three Free" weekend\, where residents and nonresidents can grab a fishing rod\, ride the off-road trails and visit state parks and boating access sites - all free of charge. During Free ORV Weekend\, Michigan residents and visitors legally can ride without buying an ORV license or trail permit. All other ORV rules and laws still apply. For more information about Free ORV Weekends\, visit Michigan.gov/ORVInfo.
X-ALT-DESC;FMTTYPE=text/html:<div class="row" style="box-sizing: border-box\; margin: 0px -1rem\; padding: 0px\; border: 0px\; outline: 0px\; font-size: 16px\; font-family: Montserrat\, sans-serif\; vertical-align: baseline\; display: flex\; flex-wrap: wrap\; color: rgb(53\, 53\, 53)\; background-color: rgb(255\, 255\, 255)\;">\n<div class="col-12" style="box-sizing: border-box\; margin: 0px\; padding: 0px 1rem\; border: 0px\; outline: 0px\; font-weight: inherit\; font-style: inherit\; font-family: inherit\; vertical-align: baseline\; position: relative\; width: 1200px\; -webkit-box-flex: 0\; flex: 0 0 100%\; max-width: 100%\;">\n<h2 class="content-title" style="box-sizing: border-box\; margin: 0px 0px 3rem\; padding: 0px\; border: 0px\; outline: 0px\; font-style: inherit\; font-size: 1.5rem\; vertical-align: baseline\; font-variation-settings: &quot\;wght&quot\; 700\; line-height: 2rem\; color: rgb(22\, 24\, 24)\; letter-spacing: 0.3px\;">Enjoy Free Fishing Weekend!</h2>\n</div>\n</div>\n\n<div class="row" style="box-sizing: border-box\; margin: 0px -1rem\; padding: 0px\; border: 0px\; outline: 0px\; font-size: 16px\; font-family: Montserrat\, sans-serif\; vertical-align: baseline\; display: flex\; flex-wrap: wrap\; color: rgb(53\, 53\, 53)\; background-color: rgb(255\, 255\, 255)\;">\n<div class="col-12" style="box-sizing: border-box\; margin: 0px\; padding: 0px 1rem\; border: 0px\; outline: 0px\; font-weight: inherit\; font-style: inherit\; font-family: inherit\; vertical-align: baseline\; position: relative\; width: 1200px\; -webkit-box-flex: 0\; flex: 0 0 100%\; max-width: 100%\;">\n<div class="com-wrapper" style="box-sizing: border-box\; margin: 0px 0px 3rem\; padding: 0px\; border: 0px\; outline: 0px\; font-weight: inherit\; font-style: inherit\; font-family: inherit\; vertical-align: baseline\;">\n<div class="feature-item-component__section-content" style="box-sizing: border-box\; margin: 0px\; padding: 0px\; border: 0px\; outline: 0px\; font-weight: inherit\; font-style: inherit\; font-family: inherit\; vertical-align: baseline\;">\n<div class="rte-content" style="box-sizing: border-box\; margin: 0px 0px 2rem\; padding: 0px\; border: 0px\; outline: 0px\; font-weight: inherit\; font-style: inherit\; font-family: inherit\; vertical-align: baseline\;">\n<p style="box-sizing: border-box\; margin: 0px 0px 1rem\; padding: 0px\; border: 0px\; outline: 0px\; font-style: inherit\; font-size: 1rem\; font-family: inherit\; vertical-align: baseline\; font-variation-settings: &quot\;wght&quot\; 400\; line-height: 1.5rem\; clear: both\;">Two days twice a year\, families and friends can enjoy one of Michigan&#39\;s premier outdoor activities\, Michigan Fishing\, for FREE!</p>\n\n<p style="box-sizing: border-box\; margin: 0px 0px 1rem\; padding: 0px\; border: 0px\; outline: 0px\; font-style: inherit\; font-size: 1rem\; font-family: inherit\; vertical-align: baseline\; font-variation-settings: &quot\;wght&quot\; 400\; line-height: 1.5rem\; clear: both\;">Free Fishing Weekend dates for 2023 are:&nbsp\;Feb. 18 and 19 and June 10 and 11.&nbsp\;All fishing license fees will be waived for two days.&nbsp\;Residents and out-of-state visitors may enjoy fishing on both inland and Great Lakes waters for all species of fish.&nbsp\;<a href="https://www.michigan.gov/dnr/managing-resources/laws/regulations" style="box-sizing: border-box\; margin: 0px\; padding: 0px\; border: 0px\; outline: 0px\; font-style: inherit\; font-family: inherit\; vertical-align: baseline\; color: rgb(39\, 124\, 120)\; background-color: transparent\; font-variation-settings: &quot\;wght&quot\; 500\;">All fishing regulations will still apply.</a></p>\n\n<p style="box-sizing: border-box\; margin: 0px 0px 1rem\; padding: 0px\; border: 0px\; outline: 0px\; font-style: inherit\; font-size: 1rem\; font-family: inherit\; vertical-align: baseline\; font-variation-settings: &quot\;wght&quot\; 400\; line-height: 1.5rem\; clear: both\;">A&nbsp\;<a href="https://www.michigan.gov/dnr/buy-and-apply/rec-pp" style="box-sizing: border-box\; margin: 0px\; padding: 0px\; border: 0px\; outline: 0px\; font-style: inherit\; font-family: inherit\; vertical-align: baseline\; color: rgb(39\, 124\, 120)\; background-color: transparent\; font-variation-settings: &quot\;wght&quot\; 500\;">Recreation Passport</a>&nbsp\;will NOT be required for entry into state parks and boating access sites during Free Fishing Weekends.&nbsp\;</p>\n\n<p style="box-sizing: border-box\; margin: 0px 0px 1rem\; padding: 0px\; border: 0px\; outline: 0px\; font-style: inherit\; font-size: 1rem\; font-family: inherit\; vertical-align: baseline\; font-variation-settings: &quot\;wght&quot\; 400\; line-height: 1.5rem\; clear: both\;">Check out a&nbsp\;<a href="https://www.michigan.gov/dnr/education/public/nature-programs/list-of-state-parks-in-the-state-explorer-program" style="box-sizing: border-box\; margin: 0px\; padding: 0px\; border: 0px\; outline: 0px\; font-style: inherit\; font-family: inherit\; vertical-align: baseline\; color: rgb(39\, 124\, 120)\; background-color: transparent\; font-variation-settings: &quot\;wght&quot\; 500\;">fishing program at a state park</a>!&nbsp\;</p>\n\n<p style="box-sizing: border-box\; margin: 0px 0px 1rem\; padding: 0px\; border: 0px\; outline: 0px\; font-style: inherit\; font-size: 1rem\; font-family: inherit\; vertical-align: baseline\; font-variation-settings: &quot\;wght&quot\; 400\; line-height: 1.5rem\; clear: both\;">Going ice fishing during the February Free Fishing Weekend? Make sure to review our&nbsp\;<a href="https://www.michigan.gov/dnr/education/safety-info/ice" style="box-sizing: border-box\; margin: 0px\; padding: 0px\; border: 0px\; outline: 0px\; font-style: inherit\; font-family: inherit\; vertical-align: baseline\; color: rgb(39\, 124\, 120)\; background-color: transparent\; font-variation-settings: &quot\;wght&quot\; 500\;">ice safety tips</a>.&nbsp\;</p>\n\n<h3 style="box-sizing: border-box\; margin: 3rem 0px 1rem\; padding: 0px\; border: 0px\; outline: 0px\; font-style: inherit\; font-size: 1.25rem\; vertical-align: baseline\; font-variation-settings: &quot\;wght&quot\; 700\; line-height: 1.75rem\; color: rgb(22\, 24\, 24)\; letter-spacing: 0.3px\; clear: both\;">Three Free Weekend</h3>\n\n<p style="box-sizing: border-box\; margin: 0px 0px 1rem\; padding: 0px\; border: 0px\; outline: 0px\; font-style: inherit\; font-size: 1rem\; font-family: inherit\; vertical-align: baseline\; font-variation-settings: &quot\;wght&quot\; 400\; line-height: 1.5rem\; clear: both\;">Free Fishing Weekend on June 10 and 11\, 2023 is held in conjunction with &quot\;Three Free&quot\; weekend\, where residents and nonresidents can grab a fishing rod\, ride the off-road trails and visit state parks and boating access sites - all free of charge. During Free ORV Weekend\, Michigan residents and visitors legally can ride without buying an ORV license or trail permit. All other ORV rules and laws still apply. For more information about Free ORV Weekends\, visit&nbsp\;<a href="https://www.michigan.gov/dnr/things-to-do/orv-riding" style="box-sizing: border-box\; margin: 0px\; padding: 0px\; border: 0px\; outline: 0px\; font-style: inherit\; font-family: inherit\; vertical-align: baseline\; color: rgb(39\, 124\, 120)\; background-color: transparent\; font-variation-settings: &quot\;wght&quot\; 500\;">Michigan.gov/ORVInfo</a>.</p>\n</div>\n</div>\n</div>\n</div>\n</div>\n
LOCATION:
UID:e.2409.37821
SEQUENCE:3
DTSTAMP:20260420T022055Z
URL:https://business.elkrapidschamber.org/events/details/free-fishing-weekend-37821
END:VEVENT

END:VCALENDAR
