BEGIN:VCALENDAR
VERSION:2.0
PRODID:-//ChamberMaster//Event Calendar 2.0//EN
METHOD:PUBLISH
X-PUBLISHED-TTL:P3D
REFRESH-INTERVAL:P3D
CALSCALE:GREGORIAN
BEGIN:VEVENT
DTSTART:20230629T200000Z
DTEND:20230629T220000Z
X-MICROSOFT-CDO-ALLDAYEVENT:FALSE
SUMMARY:Free Fishing Expo
DESCRIPTION:Elk Rapids Free Fishing Expo\, scheduled to be held on Thursday\, June 29\, has expanded through the years from a six-person Q&A panel and around 60 people in attendance to 15-18 tables of fishing information and approximately 175-250 in attendance. Door prizes range from $375-$500.\n\n\n\nThe event currently has 18 sponsors\, including three out-of-state fishing equipment companies. Some of the tables include the best summer lures\, baits\, rod making\, fly fishing-fly tying\, how to fillet your catch\, and a lot more fishing information. In addition\, there is a Veteran's Corner manned by the Antrim Veteran's Organization and a representative from The Fallen Outdoors\, an organization whose nationwide mission is organize outdoor adventures for veterans past and present. An added feature will be the DNR research vessel STEELHEAD in port for free tours starting at 4 p.m.
X-ALT-DESC;FMTTYPE=text/html:<span style="color: rgb(102\, 102\, 102)\; font-family: Arial\, Helvetica\, sans-serif\; font-size: 14px\; background-color: rgb(255\, 255\, 255)\;">Elk Rapids Free Fishing Expo\, scheduled to be held on Thursday\, June 29\, has expanded through the years from a six-person Q&amp\;A panel and around 60 people in attendance to 15-18 tables of fishing information and approximately 175-250 in attendance.&nbsp\;Door prizes range from $375-$500.</span><br style="color: rgb(102\, 102\, 102)\; font-family: Arial\, Helvetica\, sans-serif\; font-size: 14px\; background-color: rgb(255\, 255\, 255)\;" />\n<br style="color: rgb(102\, 102\, 102)\; font-family: Arial\, Helvetica\, sans-serif\; font-size: 14px\; background-color: rgb(255\, 255\, 255)\;" />\n<span style="color: rgb(102\, 102\, 102)\; font-family: Arial\, Helvetica\, sans-serif\; font-size: 14px\; background-color: rgb(255\, 255\, 255)\;">The event currently has 18 sponsors\, including three out-of-state fishing equipment companies. Some of the tables include the best summer lures\, baits\, rod making\, fly fishing-fly tying\, how to fillet your catch\, and a lot more fishing information.&nbsp\;In addition\, there is a Veteran&rsquo\;s Corner manned by the Antrim Veteran&rsquo\;s Organization and a representative from The Fallen Outdoors\, an organization whose nationwide mission is organize outdoor adventures for veterans past and present. An added feature will be the DNR research vessel&nbsp\;</span><em style="position: relative\; color: rgb(102\, 102\, 102)\; font-family: Arial\, Helvetica\, sans-serif\; font-size: 14px\; background-color: rgb(255\, 255\, 255)\;">STEELHEAD</em><span style="color: rgb(102\, 102\, 102)\; font-family: Arial\, Helvetica\, sans-serif\; font-size: 14px\; background-color: rgb(255\, 255\, 255)\;">&nbsp\;in port for free tours starting at 4 p.m.</span>
LOCATION:Elk Rapids Harbor Pavilion
UID:e.2409.36264
SEQUENCE:3
DTSTAMP:20260420T010441Z
URL:https://business.elkrapidschamber.org/events/details/free-fishing-expo-36264
END:VEVENT

END:VCALENDAR
