BEGIN:VCALENDAR
VERSION:2.0
PRODID:-//ChamberMaster//Event Calendar 2.0//EN
METHOD:PUBLISH
X-PUBLISHED-TTL:P3D
REFRESH-INTERVAL:P3D
CALSCALE:GREGORIAN
BEGIN:VEVENT
DTSTART:20230603T160000Z
DTEND:20230604T020000Z
X-MICROSOFT-CDO-ALLDAYEVENT:FALSE
SUMMARY:FREE concert to kick-off Less Cancer’s 2023 Hike and Bike America!
DESCRIPTION:Please join us for a FREE concert to kick-off Less Cancer's 2023 Hike and Bike America event\, a month-long endeavor to help get and keep America moving! Bring your family\, friends\, and neighbors too! Featuring the band\, The Insiders: A Tribute to Tom Petty Mt. Holiday\, Traverse City\, MI June 3rd\, gates open at 5:30 pm/concert starts at 7:00 pm (rain or shine) Food and cold beverages will be available for purchase. Donations to Less Cancer will be accepted. We hope you join us for a fun-filled evening of good music and great food as we come together as a community to help support Less Cancer's critical work of preventing cancer. See you there! For more information about this event\, please visit: https://www.lesscancer.org/how-we-do-our-work/less-cancer-bike-ride/
X-ALT-DESC;FMTTYPE=text/html:Please join us for a FREE concert to kick-off Less Cancer&rsquo\;s 2023 Hike and Bike America event\, a month-long endeavor to help get and keep America moving! Bring your family\, friends\, and neighbors too! Featuring the band\, The Insiders: A Tribute to Tom Petty Mt. Holiday\, Traverse City\, MI June 3rd\, gates open at 5:30 pm/concert starts at 7:00 pm (rain or shine) Food and cold beverages will be available for purchase. Donations to Less Cancer will be accepted. We hope you join us for a fun-filled evening of good music and great food as we come together as a community to help support Less Cancer&rsquo\;s critical work of preventing cancer. See you there! For more information about this event\, please visit: https://www.lesscancer.org/how-we-do-our-work/less-cancer-bike-ride/
LOCATION:Mt. Holiday\, Traverse City\, MI
UID:e.2409.37232
SEQUENCE:3
DTSTAMP:20260420T012024Z
URL:https://business.elkrapidschamber.org/events/details/free-concert-to-kick-off-less-cancer-s-2023-hike-and-bike-america-37232
END:VEVENT

END:VCALENDAR
