BEGIN:VCALENDAR
VERSION:2.0
PRODID:-//ChamberMaster//Event Calendar 2.0//EN
METHOD:PUBLISH
X-PUBLISHED-TTL:P3D
REFRESH-INTERVAL:P3D
CALSCALE:GREGORIAN
BEGIN:VEVENT
DTSTART:20190415T213000Z
DTEND:20190415T223000Z
X-MICROSOFT-CDO-ALLDAYEVENT:FALSE
SUMMARY:Free Community Dinner
DESCRIPTION:Free Community Dinner  from 5:30 to 6:30 at the First Presbyterian Church in Elk Rapids. Chef Jeremy will prepare a great meal. Reservations are not necessary\, just come out and enjoy fellowship and a great meal. Questions call 264-8167.
X-ALT-DESC;FMTTYPE=text/html:Free Community Dinner&nbsp\; from 5:30 to 6:30 at the First Presbyterian Church in Elk Rapids. Chef Jeremy will prepare a great meal. Reservations are not necessary\, just come out and enjoy fellowship and a great meal. Questions call 264-8167.
LOCATION:First Prebyterian Church in Elk Rapids 404 Spruce Street Elk Rapids
UID:e.2409.18229
SEQUENCE:3
DTSTAMP:20260425T221519Z
URL:https://business.elkrapidschamber.org/events/details/free-community-dinner-18229
END:VEVENT

END:VCALENDAR
