BEGIN:VCALENDAR
VERSION:2.0
PRODID:-//ChamberMaster//Event Calendar 2.0//EN
METHOD:PUBLISH
X-PUBLISHED-TTL:P3D
REFRESH-INTERVAL:P3D
CALSCALE:GREGORIAN
BEGIN:VEVENT
DTSTART:20251206T220000Z
DTEND:20251207T000000Z
X-MICROSOFT-CDO-ALLDAYEVENT:FALSE
SUMMARY:Free Community Dinner
DESCRIPTION:Elk Rapids Lions Club Community Dinner\n\nFree ham dinner with all of the fixings. \n\nMonetary donations accepted and will go to local food pantries.
X-ALT-DESC;FMTTYPE=text/html:Elk Rapids Lions Club Community Dinner<br />\nFree ham dinner with all of the fixings.&nbsp\;<br />\nMonetary donations accepted and will go to local food pantries.
LOCATION:Elk Rapids Cherryland Middle School 707 E. Third Street Elk Rapids\, MI 49629
UID:e.2409.50581
SEQUENCE:3
DTSTAMP:20260420T065910Z
URL:https://business.elkrapidschamber.org/events/details/free-community-dinner-12-06-2025-50581
END:VEVENT

END:VCALENDAR
