BEGIN:VCALENDAR
VERSION:2.0
PRODID:-//ChamberMaster//Event Calendar 2.0//EN
METHOD:PUBLISH
X-PUBLISHED-TTL:P3D
REFRESH-INTERVAL:P3D
CALSCALE:GREGORIAN
BEGIN:VEVENT
DTSTART:20240124T223000Z
DTEND:20240124T233000Z
X-MICROSOFT-CDO-ALLDAYEVENT:FALSE
SUMMARY:Foodie Cookbook Book Club
DESCRIPTION:Sign up for our new cookbook club as we read and make recipes from the same cookbook. Email us at erlib.help@gmail.com or call us at 231-264-9979\, to get registered. You will be contacted with the details of our first meeting.
X-ALT-DESC;FMTTYPE=text/html:<span style="color: rgb(5\, 5\, 5)\; font-family: &quot\;Segoe UI Historic&quot\;\, &quot\;Segoe UI&quot\;\, Helvetica\, Arial\, sans-serif\; font-size: 15px\; background-color: rgb(255\, 255\, 255)\;">Sign up for our new cookbook club as we read and make recipes from the same cookbook. Email us at <a href="mailto:erlib.help@gmail.com">erlib.help@gmail.com</a> or call us at 231-264-9979\, to get registered. You will be contacted with the details of our first meeting.</span>
LOCATION:
UID:e.2409.40920
SEQUENCE:3
DTSTAMP:20260419T122930Z
URL:https://business.elkrapidschamber.org/events/details/foodie-cookbook-book-club-40920
END:VEVENT

END:VCALENDAR
