BEGIN:VCALENDAR
VERSION:2.0
PRODID:-//ChamberMaster//Event Calendar 2.0//EN
METHOD:PUBLISH
X-PUBLISHED-TTL:P3D
REFRESH-INTERVAL:P3D
CALSCALE:GREGORIAN
BEGIN:VEVENT
DTSTART:20190601T200000Z
DTEND:20190601T210000Z
X-MICROSOFT-CDO-ALLDAYEVENT:FALSE
SUMMARY:Focus on Water
DESCRIPTION:With help from the Michigan Humanities Council and the National Endowment for the Humanities\, Raven Hill is hosting "Third Coast Conversations" that will focus on Water\, and the community is invited. A related exhibit titled "All Things Water" will be on display from June 1st to June 21st.
X-ALT-DESC;FMTTYPE=text/html:With help from the Michigan Humanities Council and the National Endowment for the Humanities\, Raven Hill is hosting &quot\;Third Coast Conversations&quot\; that will focus on Water\, and the community is invited. A related exhibit titled &quot\;All Things Water&quot\; will be on display from June 1st to June 21st.
LOCATION:Raven Hill Discovery Center 4737 Fuller Road East Jordan\, MI 49727
UID:e.2409.19292
SEQUENCE:3
DTSTAMP:20260425T195550Z
URL:https://business.elkrapidschamber.org/events/details/focus-on-water-19292
END:VEVENT

END:VCALENDAR
