BEGIN:VCALENDAR
VERSION:2.0
PRODID:-//ChamberMaster//Event Calendar 2.0//EN
METHOD:PUBLISH
X-PUBLISHED-TTL:P3D
REFRESH-INTERVAL:P3D
CALSCALE:GREGORIAN
BEGIN:VEVENT
DTSTART:20230309T230000Z
DTEND:20230310T013000Z
X-MICROSOFT-CDO-ALLDAYEVENT:FALSE
SUMMARY:Fly Tying Thursday at Ethanology
DESCRIPTION:
X-ALT-DESC;FMTTYPE=text/html:
LOCATION:Old St\, 127 Ames St\, Elk Rapids\, MI 49629
UID:e.2409.34557
SEQUENCE:3
DTSTAMP:20260420T070304Z
URL:https://business.elkrapidschamber.org/events/details/fly-tying-thursday-at-ethanology-03-09-2023-34557
END:VEVENT

END:VCALENDAR
