BEGIN:VCALENDAR
VERSION:2.0
PRODID:-//ChamberMaster//Event Calendar 2.0//EN
METHOD:PUBLISH
X-PUBLISHED-TTL:P3D
REFRESH-INTERVAL:P3D
CALSCALE:GREGORIAN
BEGIN:VEVENT
DTSTART:20191217T223000Z
DTEND:20191218T000000Z
X-MICROSOFT-CDO-ALLDAYEVENT:FALSE
SUMMARY:Fly Tying Series with Eric Crissman: Trout Flies
DESCRIPTION:Eric Crissman will teach three different trout flies with information about each fly. Classes will take place on three consecutive Tuesdays (December 3rd\, 10th\, and 17th from 5:30-7:00). Participants will get familiar with the tools and equipment used in fly tying and how to properly proportion a fly. Learn a variety of techniques that are essential to becoming a great fly tier. Please call 231-264-9979 to register.
X-ALT-DESC;FMTTYPE=text/html:Eric Crissman will teach three different trout flies with information about each fly. Classes will take place on three consecutive Tuesdays (December 3rd\, 10th\, and 17th from 5:30-7:00). Participants will get familiar with the tools and equipment used in fly tying and how to properly proportion a fly. Learn a variety of techniques that are essential to becoming a great fly tier. Please call 231-264-9979 to register.
LOCATION:Elk Rapids Library
UID:e.2409.22392
SEQUENCE:3
DTSTAMP:20260419T142701Z
URL:https://business.elkrapidschamber.org/events/details/fly-tying-series-with-eric-crissman-trout-flies-12-17-2019-22392
END:VEVENT

END:VCALENDAR
