BEGIN:VCALENDAR
VERSION:2.0
PRODID:-//ChamberMaster//Event Calendar 2.0//EN
METHOD:PUBLISH
X-PUBLISHED-TTL:P3D
REFRESH-INTERVAL:P3D
CALSCALE:GREGORIAN
BEGIN:VEVENT
DTSTART:20190925T130000Z
DTEND:20190925T150000Z
X-MICROSOFT-CDO-ALLDAYEVENT:FALSE
SUMMARY:Flu Shot Clinic
DESCRIPTION:Rite Aid will be giving flu shots. Sign up is required. Call to preregister - spots are limited.
X-ALT-DESC;FMTTYPE=text/html:Rite Aid will be giving flu shots. Sign up is required. Call to preregister - spots are limited.&nbsp\;&nbsp\;&nbsp\;&nbsp\;
LOCATION:First Presbyterian Church of Elk Rapids in the fellowship hall.
UID:e.2409.21809
SEQUENCE:3
DTSTAMP:20260423T090633Z
URL:https://business.elkrapidschamber.org/events/details/flu-shot-clinic-21809
END:VEVENT

END:VCALENDAR
