BEGIN:VCALENDAR
VERSION:2.0
PRODID:-//ChamberMaster//Event Calendar 2.0//EN
METHOD:PUBLISH
X-PUBLISHED-TTL:P3D
REFRESH-INTERVAL:P3D
CALSCALE:GREGORIAN
BEGIN:VEVENT
DTSTART:20190601T140000Z
DTEND:20190601T160000Z
X-MICROSOFT-CDO-ALLDAYEVENT:FALSE
SUMMARY:Fish Sampling at Maple Bay
DESCRIPTION:Volunteers will be collecting near-shore fish samples as part of the Great Lakes naturalist Initiative to identify our fish community and search for potential new non-native fish species before they become invasive.
X-ALT-DESC;FMTTYPE=text/html:Volunteers will be collecting near-shore fish samples as part of the Great Lakes naturalist Initiative to identify our fish community and search for potential new non-native fish species before they become invasive.&nbsp\;
LOCATION:
UID:e.2409.19740
SEQUENCE:3
DTSTAMP:20260425T003416Z
URL:https://business.elkrapidschamber.org/events/details/fish-sampling-at-maple-bay-19740
END:VEVENT

END:VCALENDAR
