BEGIN:VCALENDAR
VERSION:2.0
PRODID:-//ChamberMaster//Event Calendar 2.0//EN
METHOD:PUBLISH
X-PUBLISHED-TTL:P3D
REFRESH-INTERVAL:P3D
CALSCALE:GREGORIAN
BEGIN:VEVENT
DTSTART:20231215T223000Z
DTEND:20231216T000000Z
X-MICROSOFT-CDO-ALLDAYEVENT:FALSE
SUMMARY:Fish Fry at Amvet's Post #114
DESCRIPTION:Fish Fry Friday December 15th Amvets Post 114 5:30 to 7pm
X-ALT-DESC;FMTTYPE=text/html:Fish Fry Friday December 15th Amvets Post 114 5:30 to 7pm
LOCATION:410 Bridge St Elk Rapids 49629
UID:e.2409.40346
SEQUENCE:3
DTSTAMP:20260419T180008Z
URL:https://business.elkrapidschamber.org/events/details/fish-fry-at-amvet-s-post-114-40346
END:VEVENT

END:VCALENDAR
