BEGIN:VCALENDAR
VERSION:2.0
PRODID:-//ChamberMaster//Event Calendar 2.0//EN
METHOD:PUBLISH
X-PUBLISHED-TTL:P3D
REFRESH-INTERVAL:P3D
CALSCALE:GREGORIAN
BEGIN:VEVENT
DTSTART;VALUE=DATE:20220503
DTEND;VALUE=DATE:20220504
TRANSP:TRANSPARENT
X-MICROSOFT-CDO-ALLDAYEVENT:TRUE
SUMMARY:Field Trip to Grass River Natural Area for Wildflower Tour
DESCRIPTION:Details to be announced
X-ALT-DESC;FMTTYPE=text/html:Details to be announced
LOCATION:Grass River Natural Area 6500 Alden Hwy Bellaire MI 49615
UID:e.2409.28906
SEQUENCE:3
DTSTAMP:20260420T220047Z
URL:https://business.elkrapidschamber.org/events/details/field-trip-to-grass-river-natural-area-for-wildflower-tour-28906
END:VEVENT

END:VCALENDAR
