BEGIN:VCALENDAR
VERSION:2.0
PRODID:-//ChamberMaster//Event Calendar 2.0//EN
METHOD:PUBLISH
X-PUBLISHED-TTL:P3D
REFRESH-INTERVAL:P3D
CALSCALE:GREGORIAN
BEGIN:VEVENT
DTSTART;VALUE=DATE:20220531
DTEND;VALUE=DATE:20220601
TRANSP:TRANSPARENT
X-MICROSOFT-CDO-ALLDAYEVENT:TRUE
SUMMARY:Field Trip to Grand Traverse Butterfly House & Bug Zoo
DESCRIPTION:Details to be announced
X-ALT-DESC;FMTTYPE=text/html:Details to be announced
LOCATION:GT Butterfly House & Bug Zoo 8840 E. M-72 Williamsburg MI49690
UID:e.2409.28908
SEQUENCE:3
DTSTAMP:20260420T202938Z
URL:https://business.elkrapidschamber.org/events/details/field-trip-to-grand-traverse-butterfly-house-bug-zoo-28908
END:VEVENT

END:VCALENDAR
