BEGIN:VCALENDAR
VERSION:2.0
PRODID:-//ChamberMaster//Event Calendar 2.0//EN
METHOD:PUBLISH
X-PUBLISHED-TTL:P3D
REFRESH-INTERVAL:P3D
CALSCALE:GREGORIAN
BEGIN:VEVENT
DTSTART;VALUE=DATE:20240213
DTEND;VALUE=DATE:20240214
TRANSP:TRANSPARENT
X-MICROSOFT-CDO-ALLDAYEVENT:TRUE
SUMMARY:FAT TUESDAY! PACZKI DAY
DESCRIPTION:Get your paczki's at The Flour Pot Bakery or the Village Market
X-ALT-DESC;FMTTYPE=text/html:Get your paczki&#39\;s at The Flour Pot Bakery or the Village Market
LOCATION:
UID:e.2409.42607
SEQUENCE:3
DTSTAMP:20260419T115620Z
URL:https://business.elkrapidschamber.org/events/details/fat-tuesday-paczki-day-42607
END:VEVENT

END:VCALENDAR
