BEGIN:VCALENDAR
VERSION:2.0
PRODID:-//ChamberMaster//Event Calendar 2.0//EN
METHOD:PUBLISH
X-PUBLISHED-TTL:P3D
REFRESH-INTERVAL:P3D
CALSCALE:GREGORIAN
BEGIN:VEVENT
DTSTART:20230624T160000Z
DTEND:20230624T180000Z
X-MICROSOFT-CDO-ALLDAYEVENT:FALSE
SUMMARY:Fashion Show & Luncheon
DESCRIPTION:Fashion Show & Luncheon\n\nSalads and dessert\n\nProceeds to benefit new church building fund
X-ALT-DESC;FMTTYPE=text/html:Fashion Show &amp\; Luncheon<br />\nSalads and dessert<br />\nProceeds to benefit new church building fund<br />\n&nbsp\;
LOCATION:Sacred Heart Social Hall 143 Charles Street Elk Rapids
UID:e.2409.37861
SEQUENCE:3
DTSTAMP:20260420T022230Z
URL:https://business.elkrapidschamber.org/events/details/fashion-show-luncheon-37861
END:VEVENT

END:VCALENDAR
