BEGIN:VCALENDAR
VERSION:2.0
PRODID:-//ChamberMaster//Event Calendar 2.0//EN
METHOD:PUBLISH
X-PUBLISHED-TTL:P3D
REFRESH-INTERVAL:P3D
CALSCALE:GREGORIAN
BEGIN:VEVENT
DTSTART:20201016T123000Z
DTEND:20201016T160000Z
X-MICROSOFT-CDO-ALLDAYEVENT:FALSE
SUMMARY:Farmers Market Extended
DESCRIPTION:Attention Farmer's Market Shoppers! Great news the ER Market has been extended for two additional Fridays\, Oct 9 and Oct 16. Providence Farm\, Ken's Fish\, Northern Growin\, Ona Mission Honey\, Boss Mouse Cheese\, Blue Sunset Farm\, and more will be there. Start time is a half later than usual: 8:30 am to Noon. See you Friday!
X-ALT-DESC;FMTTYPE=text/html:<span style="color: rgb(5\, 5\, 5)\; font-family: &quot\;Segoe UI Historic&quot\;\, &quot\;Segoe UI&quot\;\, Helvetica\, Arial\, sans-serif\; font-size: 15px\; white-space: pre-wrap\; background-color: rgb(255\, 255\, 255)\;">Attention Farmer&rsquo\;s Market Shoppers! Great news&mdash\;the ER Market has been extended for two additional Fridays\, Oct 9 and Oct 16. Providence Farm\, Ken&rsquo\;s Fish\, Northern Growin\, Ona Mission Honey\, Boss Mouse Cheese\, Blue Sunset Farm\, and more will be there. Start time is a half later than usual: 8:30 am to Noon. See you Friday!</span>
LOCATION:Elk Rapids Area Chamber of Commerce at the Swan 305 US 31 Elk Rapids\, MI
UID:e.2409.24113
SEQUENCE:3
DTSTAMP:20260422T025631Z
URL:https://business.elkrapidschamber.org/events/details/farmers-market-extended-10-16-2020-24113
END:VEVENT

END:VCALENDAR
