BEGIN:VCALENDAR
VERSION:2.0
PRODID:-//ChamberMaster//Event Calendar 2.0//EN
METHOD:PUBLISH
X-PUBLISHED-TTL:P3D
REFRESH-INTERVAL:P3D
CALSCALE:GREGORIAN
BEGIN:VEVENT
DTSTART:20230626T213000Z
DTEND:20230626T224500Z
X-MICROSOFT-CDO-ALLDAYEVENT:FALSE
SUMMARY:Family Game Night @ the Library
DESCRIPTION:Join us at the library for another Family Game Night. Bring your whole family out to try out our Board Games on the porch!
X-ALT-DESC;FMTTYPE=text/html:Join us at the library for another Family Game Night. Bring your whole family out to try out our Board Games on the porch!
LOCATION:Elk Rapids District Library
UID:e.2409.38105
SEQUENCE:3
DTSTAMP:20260420T010524Z
URL:https://business.elkrapidschamber.org/events/details/family-game-night-the-library-06-26-2023-38105
END:VEVENT

END:VCALENDAR
