BEGIN:VCALENDAR
VERSION:2.0
PRODID:-//ChamberMaster//Event Calendar 2.0//EN
METHOD:PUBLISH
X-PUBLISHED-TTL:P3D
REFRESH-INTERVAL:P3D
CALSCALE:GREGORIAN
BEGIN:VEVENT
DTSTART:20210418T140000Z
DTEND:20210418T200000Z
X-MICROSOFT-CDO-ALLDAYEVENT:FALSE
SUMMARY:Family Earth Day Celebration
DESCRIPTION:Story Time at 1pm For the kickoff of our Earth Week\, join us for a Family day at Grass River. There will be Earth Day crafts and project kits\, a clean up of our Fairy Garden\, and an outdoor Nature Story Time reading of "Do Fairies Bring the Spring" at 1pm.
X-ALT-DESC;FMTTYPE=text/html:<span style="color: rgb(60\, 64\, 67)\; font-family: Roboto\, Arial\, sans-serif\; font-size: 14px\; letter-spacing: 0.2px\; white-space: pre-wrap\; background-color: rgb(255\, 255\, 255)\;">Story Time at 1pm For the kickoff of our Earth Week\, join us for a Family day at Grass River. There will be Earth Day crafts and project kits\, a clean up of our Fairy Garden\, and an outdoor Nature Story Time reading of &quot\;Do Fairies Bring the Spring&quot\; at 1pm.</span>
LOCATION:Grass River Natural Area 6500 Alden Hwy. Bellaire\, MI 49615
UID:e.2409.27189
SEQUENCE:3
DTSTAMP:20260421T175734Z
URL:https://business.elkrapidschamber.org/events/details/family-earth-day-celebration-27189
END:VEVENT

END:VCALENDAR
