BEGIN:VCALENDAR
VERSION:2.0
PRODID:-//ChamberMaster//Event Calendar 2.0//EN
METHOD:PUBLISH
X-PUBLISHED-TTL:P3D
REFRESH-INTERVAL:P3D
CALSCALE:GREGORIAN
BEGIN:VEVENT
DTSTART:20191215T170000Z
DTEND:20191215T210000Z
X-MICROSOFT-CDO-ALLDAYEVENT:FALSE
SUMMARY:Family Day at the Music House Museum
DESCRIPTION:Tomorrow\, Sunday December 15th\, is Family Day at the MHM! From Noon until 4pm drop by the museum for kid-friendly tours\, cookies\, hot cocoa & a fun make your own ornament activity! We're offering special admission rates of $15.00 for a Family (2 adults and up to 4 children)\, Adults $5.00 & Children (16 & under) $3.00. #musichousemuseum
X-ALT-DESC;FMTTYPE=text/html:<div class="_5pbx userContent _3576" data-ft="{&quot\;tn&quot\;:&quot\;K&quot\;}" data-testid="post_message" id="js_5sl" style="font-size: 14px\; font-weight: 400\; line-height: 1.38\; margin-top: 6px\; font-family: Helvetica\, Arial\, sans-serif\; color: rgb(28\, 30\, 33)\; font-style: normal\; font-variant-ligatures: normal\; font-variant-caps: normal\; letter-spacing: normal\; orphans: 2\; text-align: start\; text-indent: 0px\; text-transform: none\; white-space: normal\; widows: 2\; word-spacing: 0px\; -webkit-text-stroke-width: 0px\; background-color: rgb(255\, 255\, 255)\; text-decoration-style: initial\; text-decoration-color: initial\;">\n<p style="margin: 0px\; display: inline\; font-family: inherit\;">Tomorrow\, Sunday December 15th\, is Family Day at the MHM! From Noon until 4pm drop by the museum for kid-friendly tours\, cookies\, hot cocoa &amp\; a fun make your own ornament activity! We&rsquo\;re offering special admission rates of $15.00 for a Family (2 adults and up to 4 children)\, Adults $5.00 &amp\; Children (16 &amp\; under) $3.00.<span>&nbsp\;</span><a class="_58cn" data-ft="{&quot\;type&quot\;:104\,&quot\;tn&quot\;:&quot\;*N&quot\;}" href="https://www.facebook.com/hashtag/musichousemuseum?source=feed_text&amp\;epa=HASHTAG&amp\;__xts__%5B0%5D=68.ARBc8SHR2SCVZyh9rxyKuJVvJG2mJMR4-hCPSnh_YsebWURYVoNkCofivqKT1zuXgI3TdbLCb9Oc3j7uSDMP9JgHvSDxvZZ_Vuk77TSYCdKKk6wU2HgssKL6L4rpt5gYNX9-wR23spN3bOuhIMONWL984NGQTxT6o2LhVw54wAwCmhIc_uiK763haxeEuA47i_Ku2m_yOIEbuZd7SOUAiaVjUzNJHtzcqKUK4z8IepErhJIjB-e4Rz57p_LZ6a-V-qvm3NmfSeP4TzhsBex42dKd-1XAp2z_22cDefsfxA1ozT9mZF7Ss8_20xXmBQoXvPRwz5rn5pKcz-fGNns4tR2j4g&amp\;__tn__=%2ANK-R" style="color: rgb(56\, 88\, 152)\; cursor: pointer\; text-decoration: none\; font-family: inherit\;"><span class="_5afx" style="direction: ltr\; unicode-bidi: isolate\; font-family: inherit\;"><span aria-label="hashtag" class="_58cl _5afz" style="unicode-bidi: isolate\; color: rgb(54\, 88\, 153)\; font-family: inherit\;">#</span><span class="_58cm" style="font-family: inherit\;">musichousemuseum</span></span></a></p>\n</div>\n\n<div class="_3x-2" data-ft="{&quot\;tn&quot\;:&quot\;H&quot\;}" style="font-family: Helvetica\, Arial\, sans-serif\; color: rgb(28\, 30\, 33)\; font-size: 12px\; font-style: normal\; font-variant-ligatures: normal\; font-variant-caps: normal\; font-weight: 400\; letter-spacing: normal\; orphans: 2\; text-align: start\; text-indent: 0px\; text-transform: none\; white-space: normal\; widows: 2\; word-spacing: 0px\; -webkit-text-stroke-width: 0px\; background-color: rgb(255\, 255\, 255)\; text-decoration-style: initial\; text-decoration-color: initial\;">\n<div data-ft="{&quot\;tn&quot\;:&quot\;H&quot\;}" style="font-family: inherit\;">\n<div class="mtm" style="margin-top: 10px\; font-family: inherit\;">\n<div style="font-family: inherit\; position: relative\;">\n<div class="_1ktf" data-ft="{&quot\;tn&quot\;:&quot\;E&quot\;}" style="margin-left: -12px\; font-family: inherit\;">&nbsp\;</div>\n</div>\n</div>\n</div>\n</div>\n
LOCATION:Music House Museum 7377 US 31 Williamsburg\, MI\, 49690
UID:e.2409.22429
SEQUENCE:3
DTSTAMP:20260419T143230Z
URL:https://business.elkrapidschamber.org/events/details/family-day-at-the-music-house-museum-22429
END:VEVENT

END:VCALENDAR
