BEGIN:VCALENDAR
VERSION:2.0
PRODID:-//ChamberMaster//Event Calendar 2.0//EN
METHOD:PUBLISH
X-PUBLISHED-TTL:P3D
REFRESH-INTERVAL:P3D
CALSCALE:GREGORIAN
BEGIN:VEVENT
DTSTART:20241005T130000Z
DTEND:20241005T160000Z
X-MICROSOFT-CDO-ALLDAYEVENT:FALSE
SUMMARY:Fall Stewardship Day
DESCRIPTION:Fall Stewardship Day\n\nSaturday\, October 5\, 2024\, from 9:00 am - 12:00 pm\, volunteers needed\n\nSummer is ushering in autumn\, which means cooler weather and some good ol' fall season work! Come on out and join the many stewardship activities as we prepare the buildings\, trails\, and grounds for winter. No experience is necessary\; just a pair of work gloves and an open spirit. Pre-registration is encouraged - email Brian at stewardship@grassriver.org.
X-ALT-DESC;FMTTYPE=text/html:<p style="margin: 0px\; padding: 0px\; font-family: Arial\, Verdana\, Helvetica\, sans-serif\; font-size: 14px\; background-color: rgb(255\, 255\, 255)\;"><span style="font-size: 13px\; font-weight: bold\;">Fall Stewardship Day</span></p>\n\n<p style="margin: 0px\; padding: 0px\; font-family: Arial\, Verdana\, Helvetica\, sans-serif\; font-size: 14px\; background-color: rgb(255\, 255\, 255)\;"><span style="font-size: 13px\; font-style: italic\;">Saturday\, October 5\, 2024\, from 9:00 am - 12:00 pm\, volunteers needed</span></p>\n\n<p style="margin: 0px\; padding: 0px\; font-family: Arial\, Verdana\, Helvetica\, sans-serif\; font-size: 14px\; background-color: rgb(255\, 255\, 255)\;"><span style="font-size: 13px\;">Summer is ushering in autumn\, which means cooler weather and some good ol&#39\; fall season work! Come on out and join the many stewardship activities as we prepare the buildings\, trails\, and grounds for winter. No experience is necessary\; just a pair of work gloves and an open spirit. Pre-registration is encouraged - email Brian at stewardship@grassriver.org.</span></p>\n
LOCATION:Grass River Natural Area
UID:e.2409.45495
SEQUENCE:3
DTSTAMP:20260424T200905Z
URL:https://business.elkrapidschamber.org/events/details/fall-stewardship-day-45495
END:VEVENT

END:VCALENDAR
