BEGIN:VCALENDAR
VERSION:2.0
PRODID:-//ChamberMaster//Event Calendar 2.0//EN
METHOD:PUBLISH
X-PUBLISHED-TTL:P3D
REFRESH-INTERVAL:P3D
CALSCALE:GREGORIAN
BEGIN:VEVENT
DTSTART:20190921T140000Z
DTEND:20190921T160000Z
X-MICROSOFT-CDO-ALLDAYEVENT:FALSE
SUMMARY:Fall Mushroom Foray
DESCRIPTION:Mushrooms are plentiful in the fall! Take a walk through woodland and wetland to collect and learn to identify the fungi for Northern Michigan. More information at grassriver.org. Grass River Natural Area is located at 6500 Alden Highway\, Bellaire MI.
X-ALT-DESC;FMTTYPE=text/html:<span style="color: rgb(29\, 34\, 40)\; background-color: rgb(255\, 255\, 255)\; font-size: 12pt\; font-family: &quot\;Helvetica Neue&quot\;\;">Mushrooms are plentiful in the fall! Take a walk through woodland and wetland to collect and learn to identify the fungi for Northern Michigan.&nbsp\;</span><span style="color: rgb(29\, 34\, 40)\; font-family: &quot\;Helvetica Neue&quot\;\, Helvetica\, Arial\, sans-serif\; background-color: rgb(255\, 255\, 255)\; font-size: 12pt\;">More information at grassriver.org. Grass River Natural Area is located at 6500 Alden Highway\, Bellaire MI.</span>
LOCATION:Grass River Natural Area
UID:e.2409.21813
SEQUENCE:3
DTSTAMP:20260424T020139Z
URL:https://business.elkrapidschamber.org/events/details/fall-mushroom-foray-21813
END:VEVENT

END:VCALENDAR
