BEGIN:VCALENDAR
VERSION:2.0
PRODID:-//ChamberMaster//Event Calendar 2.0//EN
METHOD:PUBLISH
X-PUBLISHED-TTL:P3D
REFRESH-INTERVAL:P3D
CALSCALE:GREGORIAN
BEGIN:VEVENT
DTSTART:20241024T210000Z
DTEND:20241024T230000Z
X-MICROSOFT-CDO-ALLDAYEVENT:FALSE
SUMMARY:Fall\, Flannel and Friends at Townline Ciderworks
DESCRIPTION:Join the Friends of the Elk Rapids District Library for the 3rd Annual Fall\, Flannel & Friends at Townline Ciderworks to support the Elk Rapids District Library.\n\n Only $25 per person!\n\nGet your tickets here: https://www.friendsoftheelkrapidslibrary.org/.../fall...
X-ALT-DESC;FMTTYPE=text/html:<p style="margin: 0px\; padding: 0px\;"><span style="font-size: 15px\; color: rgb(5\, 5\, 5)\;">Join the Friends of the Elk Rapids District Library for the 3rd Annual Fall\, Flannel &amp\; Friends at&nbsp\;</span><a href="https://www.facebook.com/@TownlineCiderworks" rel="noopener noreferrer" style="font-size: 15px\; color: rgb(40\, 79\, 161)\; font-weight: bold\;" target="_blank">Townline Ciderworks</a><span style="font-size: 15px\; color: rgb(5\, 5\, 5)\;">&nbsp\;to support the&nbsp\;</span><a href="https://www.facebook.com/elkrapidsdistrictlibrary?__cft__%5B0%5D=AZV59p6I4qAzuCgas6WhMFWo2bfXNcr6aL2I7YBB1mcAQw6xaYq3iU4RohUpvaIFf4LCriTB7hetAMTjDvL3Tx6B0mfGQoiB_voqZANWVScACgmdv7AdP7zx_HXuQYtB0fae1GMs7LDC9gL3iVEUIA6o4GlH5Gph3iFSNovMGZa1WOxVjkZqOfsRvRWw8vYkyuI&amp\;__tn__=-%5DK-R" rel="noopener noreferrer" style="text-decoration-line: none\; font-size: 15px\; color: rgb(5\, 5\, 5)\;" target="_blank">Elk Rapids District Library</a><span style="font-size: 15px\; color: rgb(5\, 5\, 5)\;">.</span></p>\n\n<p style="margin: 0px\; padding: 0px\;"><span style="font-size: 15px\; color: rgb(5\, 5\, 5)\;"><span class="ql-cursor">&#65279\;</span>Only $25 per person!</span></p>\n\n<p style="margin: 0px\; padding: 0px\;"><span style="font-size: 15px\; color: rgb(5\, 5\, 5)\;">Get your tickets here:&nbsp\;</span><a href="https://www.friendsoftheelkrapidslibrary.org/membership-store/p/fall-flannel-friends-2024?fbclid=IwZXh0bgNhZW0CMTAAAR1Vw5TCSYQUhwK_HaVqAvL3eRHDqrkfNtogrQHKprb_KeTWlaWB91L3XBM_aem_4G20pZ9CHb39f5YFL1deDQ" rel="noopener noreferrer" style="font-size: 15px\; color: rgb(40\, 79\, 161)\; font-weight: bold\;" target="_blank">https://www.friendsoftheelkrapidslibrary.org/.../fall...</a></p>\n\n<p style="margin: 0px\; padding: 0px\;">&nbsp\;</p>\n
LOCATION:11595 US-31 S\, Williamsburg\, MI 49690
UID:e.2409.45493
SEQUENCE:3
DTSTAMP:20260424T201448Z
URL:https://business.elkrapidschamber.org/events/details/fall-flannel-and-friends-at-townline-ciderworks-45493
END:VEVENT

END:VCALENDAR
