BEGIN:VCALENDAR
VERSION:2.0
PRODID:-//ChamberMaster//Event Calendar 2.0//EN
METHOD:PUBLISH
X-PUBLISHED-TTL:P3D
REFRESH-INTERVAL:P3D
CALSCALE:GREGORIAN
BEGIN:VEVENT
DTSTART:20241027T170000Z
DTEND:20241027T190000Z
X-MICROSOFT-CDO-ALLDAYEVENT:FALSE
SUMMARY:Fall Fairy House Fun
DESCRIPTION:Fall Fairy House Fun\n\n \n\nSunday\, October 27\, 2024 - 1:00pm (2hrs.) $10 per participant\, please pre-register\, limited space\n\n \n\nInvite some fairies to come over for Halloween and stay till Thanksgiving. We will be working with a plastic pumpkin bucket\, hot glue\, and lots of fun fall decorations to create a unique fall fairy house. All materials are supplied for this class.
X-ALT-DESC;FMTTYPE=text/html:<strong><span style="color:#786A65\;"><span style="font-family:times new roman\,serif\;"><span style="font-size:13.0pt\;">Fall Fairy House Fun</span></span></span></strong><br />\n&nbsp\;<br />\n<strong><em><span style="color:#786A65\;"><span style="font-family:times new roman\,serif\;"><span style="font-size:13.0pt\;">Sunday\, October 27\, 2024 - 1:00pm (2hrs.) $10 per participant\, please pre-register\, limited space</span></span></span></em></strong><br />\n&nbsp\;<br />\n<span style="color:#786A65\;"><span style="font-family:times new roman\,serif\;"><span style="font-size:13.0pt\;">Invite some fairies to come over for Halloween and stay till Thanksgiving. We will be working with a plastic pumpkin bucket\, hot glue\, and lots of fun fall decorations to create a unique fall fairy house. All materials are supplied for this class. </span></span></span>
LOCATION:
UID:e.2409.45516
SEQUENCE:3
DTSTAMP:20260424T201008Z
URL:https://business.elkrapidschamber.org/events/details/fall-fairy-house-fun-45516
END:VEVENT

END:VCALENDAR
