BEGIN:VCALENDAR
VERSION:2.0
PRODID:-//ChamberMaster//Event Calendar 2.0//EN
METHOD:PUBLISH
X-PUBLISHED-TTL:P3D
REFRESH-INTERVAL:P3D
CALSCALE:GREGORIAN
BEGIN:VEVENT
DTSTART:20230613T220000Z
DTEND:20230613T233000Z
X-MICROSOFT-CDO-ALLDAYEVENT:FALSE
SUMMARY:Fairy/Dragon/Gnome Garden Make & Take
DESCRIPTION:Create your very own miniature garden to lure in fairies\, dragons\, and garden gnomes.\n\nOur Fairy Garden Classes include soil and 1 miniature plant to get you started. Our gardener will begin with a brief history of how miniature gardens began and move on to instructing the class on the key aspects of creating a fairy garden. Perfect for all ages! Bring your own container or purchase one with your ticket. Hurry- a limited number are available! Fairy homes\, decor\, and accessories are available for purchase in the Gift Shop.\n\nNOTE 1: Only those who are building a garden need to purchase a ticket. If you are only observing or supervising a child you do not need to purchase a ticket to attend.\n\nNOTE 2: Moss Basket inventory will be updated soon once it arrives (expecting them by mid May)
X-ALT-DESC;FMTTYPE=text/html:<p style="box-sizing: border-box\; margin-top: 0px\; margin-bottom: var(--tec-spacer-3)\; font-size: var(--tec-font-size-4)\; line-height: var(--tec-line-height-2)\; font-family: &quot\;Playfair Display&quot\;\, serif\; letter-spacing: 1px\; color: rgb(67\, 67\, 67)\; background-color: rgb(245\, 245\, 245)\;">Create your very own miniature garden to lure in fairies\, dragons\, and garden gnomes.</p>\n\n<p style="box-sizing: border-box\; margin-top: 0px\; margin-bottom: var(--tec-spacer-3)\; font-size: var(--tec-font-size-4)\; line-height: var(--tec-line-height-2)\; font-family: &quot\;Playfair Display&quot\;\, serif\; letter-spacing: 1px\; color: rgb(67\, 67\, 67)\; background-color: rgb(245\, 245\, 245)\;">Our Fairy Garden Classes include soil and 1 miniature plant to get you started. Our gardener will begin with a brief history of how miniature gardens began and move on to instructing the class on the key aspects of creating a fairy garden. Perfect for all ages! Bring your own container or purchase one with your ticket. Hurry- a limited number are available! Fairy homes\, decor\, and accessories are available for purchase in the Gift Shop.</p>\n\n<p style="box-sizing: border-box\; margin-top: 0px\; margin-bottom: var(--tec-spacer-3)\; font-size: var(--tec-font-size-4)\; line-height: var(--tec-line-height-2)\; font-family: &quot\;Playfair Display&quot\;\, serif\; letter-spacing: 1px\; color: rgb(67\, 67\, 67)\; background-color: rgb(245\, 245\, 245)\;">NOTE 1: Only those who are building a garden need to purchase a ticket. If you are only observing or supervising a child you do not need to purchase a ticket to attend.</p>\n\n<p style="box-sizing: border-box\; margin-top: 0px\; margin-bottom: var(--tec-spacer-3)\; font-size: var(--tec-font-size-4)\; line-height: var(--tec-line-height-2)\; font-family: &quot\;Playfair Display&quot\;\, serif\; letter-spacing: 1px\; color: rgb(67\, 67\, 67)\; background-color: rgb(245\, 245\, 245)\;">NOTE 2: Moss Basket inventory will be updated soon once it arrives (expecting them by mid May)</p>\n
LOCATION:Castle Farms
UID:e.2409.38148
SEQUENCE:3
DTSTAMP:20260420T010156Z
URL:https://business.elkrapidschamber.org/events/details/fairy-dragon-gnome-garden-make-take-38148
END:VEVENT

END:VCALENDAR
