BEGIN:VCALENDAR
VERSION:2.0
PRODID:-//ChamberMaster//Event Calendar 2.0//EN
METHOD:PUBLISH
X-PUBLISHED-TTL:P3D
REFRESH-INTERVAL:P3D
CALSCALE:GREGORIAN
BEGIN:VEVENT
DTSTART:20190626T220000Z
DTEND:20190627T010000Z
X-MICROSOFT-CDO-ALLDAYEVENT:FALSE
SUMMARY:Evening on River Street
DESCRIPTION:A summer tradition\, Evenings on River Street are a Wednesday-night favorite in beautiful downtown Elk Rapids. The event includes food from local restaurants\, kid's activities\, and live entertainment. Each week features different music from some of Michigan's most talented artists. This years lineup includes:\n\nJune 26 - The Plumville Project\n\nJuly 3 - DAGS UND TIMMAH!\n\nJuly 10 -  Leanna Collins\n\nJuly 17 -  Brotha James\n\nJuly 24 - Brett Mitchell\n\nJuly 31 - Kick Off for Harbor Day....Great Scott!\n\nAugust 7 - Nick Vasquez'
X-ALT-DESC;FMTTYPE=text/html:<span style="color: rgb(29\, 33\, 41)\; font-family: Helvetica\, Arial\, sans-serif\; font-size: 14px\; font-variant-numeric: normal\; font-variant-east-asian: normal\;">A summer tradition\, Evenings on River Street are a Wednesday-night favorite in beautiful downtown Elk Rapids. The event includes food from local restaurants\, kid&#39\;s activities\, and live entertainment. Each week features different music from some of Michigan&#39\;s most talented artists. This years lineup includes:</span><br style="color: rgb(29\, 33\, 41)\; font-family: Helvetica\, Arial\, sans-serif\; font-size: 14px\; font-variant-numeric: normal\; font-variant-east-asian: normal\;" />\n<span style="color: rgb(29\, 33\, 41)\; font-family: Helvetica\, Arial\, sans-serif\; font-size: 14px\; font-variant-numeric: normal\; font-variant-east-asian: normal\;">June 26 - The Plumville Project</span><br style="color: rgb(29\, 33\, 41)\; font-family: Helvetica\, Arial\, sans-serif\; font-size: 14px\; font-variant-numeric: normal\; font-variant-east-asian: normal\;" />\n<span style="color: rgb(29\, 33\, 41)\; font-family: Helvetica\, Arial\, sans-serif\; font-size: 14px\; font-variant-numeric: normal\; font-variant-east-asian: normal\;">July 3 - DAGS UND TIMMAH!</span><br style="color: rgb(29\, 33\, 41)\; font-family: Helvetica\, Arial\, sans-serif\; font-size: 14px\; font-variant-numeric: normal\; font-variant-east-asian: normal\;" />\n<span style="color: rgb(29\, 33\, 41)\; font-family: Helvetica\, Arial\, sans-serif\; font-size: 14px\; font-variant-numeric: normal\; font-variant-east-asian: normal\;">July 10 -&nbsp\; Leanna Collins</span><br style="color: rgb(29\, 33\, 41)\; font-family: Helvetica\, Arial\, sans-serif\; font-size: 14px\; font-variant-numeric: normal\; font-variant-east-asian: normal\;" />\n<span style="color: rgb(29\, 33\, 41)\; font-family: Helvetica\, Arial\, sans-serif\; font-size: 14px\; font-variant-numeric: normal\; font-variant-east-asian: normal\;">July 17 -&nbsp\; Brotha James</span><br style="color: rgb(29\, 33\, 41)\; font-family: Helvetica\, Arial\, sans-serif\; font-size: 14px\; font-variant-numeric: normal\; font-variant-east-asian: normal\;" />\n<span style="color: rgb(29\, 33\, 41)\; font-family: Helvetica\, Arial\, sans-serif\; font-size: 14px\; font-variant-numeric: normal\; font-variant-east-asian: normal\;">July 24 - Brett Mitchell<br />\nJuly 31 - Kick Off for Harbor Day....Great Scott!</span><br style="color: rgb(29\, 33\, 41)\; font-family: Helvetica\, Arial\, sans-serif\; font-size: 14px\; font-variant-numeric: normal\; font-variant-east-asian: normal\;" />\n<span style="color: rgb(29\, 33\, 41)\; font-family: Helvetica\, Arial\, sans-serif\; font-size: 14px\; font-variant-numeric: normal\; font-variant-east-asian: normal\;">August 7 - Nick Vasquez&#39\;</span><br style="color: rgb(29\, 33\, 41)\; font-family: Helvetica\, Arial\, sans-serif\; font-size: 14px\; font-variant-numeric: normal\; font-variant-east-asian: normal\;" />\n<font color="#1d2129" face="Helvetica">&nbsp\;</font>
LOCATION:Downtown River Street\, Elk Rapids MI
UID:e.2409.18294
SEQUENCE:3
DTSTAMP:20260425T035159Z
URL:https://business.elkrapidschamber.org/events/details/evening-on-river-street-18294
END:VEVENT

END:VCALENDAR
