BEGIN:VCALENDAR
VERSION:2.0
PRODID:-//ChamberMaster//Event Calendar 2.0//EN
METHOD:PUBLISH
X-PUBLISHED-TTL:P3D
REFRESH-INTERVAL:P3D
CALSCALE:GREGORIAN
BEGIN:VEVENT
DTSTART:20191214T230000Z
DTEND:20191215T010000Z
X-MICROSOFT-CDO-ALLDAYEVENT:FALSE
SUMMARY:Euchre at AMVETS
DESCRIPTION:Public Welcome\, All proceeds support our veterans.
X-ALT-DESC;FMTTYPE=text/html:&nbsp\;<br />\nPublic Welcome\, All proceeds support our veterans.
LOCATION:AMVETS Post #114 410 Bridge St. Elk Rapids
UID:e.2409.22430
SEQUENCE:3
DTSTAMP:20260419T140308Z
URL:https://business.elkrapidschamber.org/events/details/euchre-at-amvets-22430
END:VEVENT

END:VCALENDAR
