BEGIN:VCALENDAR
VERSION:2.0
PRODID:-//ChamberMaster//Event Calendar 2.0//EN
METHOD:PUBLISH
X-PUBLISHED-TTL:P3D
REFRESH-INTERVAL:P3D
CALSCALE:GREGORIAN
BEGIN:VEVENT
DTSTART:20190518T120000Z
DTEND:20190518T160000Z
X-MICROSOFT-CDO-ALLDAYEVENT:FALSE
SUMMARY:ER Township Spring Clean-up
DESCRIPTION:*Drop off for Elk Rapids Township Only @ Village DPW parking lot on Lake Street behind Cone Corral\n\n**No household garbage\n\n**1 yard of less of building materials\n\n**Whites Goods will be accepted. Doors must be removed.\n\n**Stickered items (Freon removed)\, no charge\n\n**"Freon in" items are $35.00 each\n\n**Tires will be accepted $6.00 per tire\n\n(no tractor tires) (tires on rims are twice the fee)\n\nExcluded items: batteries\, paint cans\, rock\, asphalt\, concrete and brush. All hazardous waste such as chemicals\, herbicides and insecticides.
X-ALT-DESC;FMTTYPE=text/html:<div style="text-align: left\; color: rgb(123\, 110\, 101)\; text-transform: none\; text-indent: 0px\; letter-spacing: normal\; font-family: Arial\, Verdana\, Helvetica\, sans-serif\; font-size: 12px\; font-style: normal\; font-weight: 400\; word-spacing: 0px\; white-space: normal\; orphans: 2\; widows: 2\; background-color: rgb(209\, 230\, 209)\; font-variant-ligatures: normal\; font-variant-caps: normal\; -webkit-text-stroke-width: 0px\; text-decoration-style: initial\; text-decoration-color: initial\;"><span style="color: rgb(0\, 0\, 0)\; font-weight: bold\;">*Drop off for Elk Rapids Township Only @ Village DPW parking lot on Lake Street behind Cone Corral</span></div>\n\n<div style="text-align: left\; color: rgb(123\, 110\, 101)\; text-transform: none\; text-indent: 0px\; letter-spacing: normal\; font-family: Arial\, Verdana\, Helvetica\, sans-serif\; font-size: 12px\; font-style: normal\; font-weight: 400\; word-spacing: 0px\; white-space: normal\; orphans: 2\; widows: 2\; background-color: rgb(209\, 230\, 209)\; font-variant-ligatures: normal\; font-variant-caps: normal\; -webkit-text-stroke-width: 0px\; text-decoration-style: initial\; text-decoration-color: initial\;"><span style="color: rgb(0\, 0\, 0)\; font-weight: bold\;">**No household garbage</span></div>\n\n<div style="text-align: left\; color: rgb(123\, 110\, 101)\; text-transform: none\; text-indent: 0px\; letter-spacing: normal\; font-family: Arial\, Verdana\, Helvetica\, sans-serif\; font-size: 12px\; font-style: normal\; font-weight: 400\; word-spacing: 0px\; white-space: normal\; orphans: 2\; widows: 2\; background-color: rgb(209\, 230\, 209)\; font-variant-ligatures: normal\; font-variant-caps: normal\; -webkit-text-stroke-width: 0px\; text-decoration-style: initial\; text-decoration-color: initial\;"><span style="color: rgb(0\, 0\, 0)\; font-weight: bold\;">**1 yard of less of building materials</span></div>\n\n<div style="text-align: left\; color: rgb(123\, 110\, 101)\; text-transform: none\; text-indent: 0px\; letter-spacing: normal\; font-family: Arial\, Verdana\, Helvetica\, sans-serif\; font-size: 12px\; font-style: normal\; font-weight: 400\; word-spacing: 0px\; white-space: normal\; orphans: 2\; widows: 2\; background-color: rgb(209\, 230\, 209)\; font-variant-ligatures: normal\; font-variant-caps: normal\; -webkit-text-stroke-width: 0px\; text-decoration-style: initial\; text-decoration-color: initial\;"><span style="color: rgb(0\, 0\, 0)\; font-weight: bold\;">**Whites Goods will be accepted. Doors must be removed.</span></div>\n\n<div style="text-align: left\; color: rgb(123\, 110\, 101)\; text-transform: none\; text-indent: 0px\; letter-spacing: normal\; font-family: Arial\, Verdana\, Helvetica\, sans-serif\; font-size: 12px\; font-style: normal\; font-weight: 400\; word-spacing: 0px\; white-space: normal\; orphans: 2\; widows: 2\; background-color: rgb(209\, 230\, 209)\; font-variant-ligatures: normal\; font-variant-caps: normal\; -webkit-text-stroke-width: 0px\; text-decoration-style: initial\; text-decoration-color: initial\;"><span style="color: rgb(0\, 0\, 0)\; font-weight: bold\;">**Stickered items (Freon removed)\, no charge</span></div>\n\n<div style="text-align: left\; color: rgb(123\, 110\, 101)\; text-transform: none\; text-indent: 0px\; letter-spacing: normal\; font-family: Arial\, Verdana\, Helvetica\, sans-serif\; font-size: 12px\; font-style: normal\; font-weight: 400\; word-spacing: 0px\; white-space: normal\; orphans: 2\; widows: 2\; background-color: rgb(209\, 230\, 209)\; font-variant-ligatures: normal\; font-variant-caps: normal\; -webkit-text-stroke-width: 0px\; text-decoration-style: initial\; text-decoration-color: initial\;"><span style="color: rgb(0\, 0\, 0)\; font-weight: bold\;">**&quot\;Freon in&quot\; items are $35.00 each</span></div>\n\n<div style="text-align: left\; color: rgb(123\, 110\, 101)\; text-transform: none\; text-indent: 0px\; letter-spacing: normal\; font-family: Arial\, Verdana\, Helvetica\, sans-serif\; font-size: 12px\; font-style: normal\; font-weight: 400\; word-spacing: 0px\; white-space: normal\; orphans: 2\; widows: 2\; background-color: rgb(209\, 230\, 209)\; font-variant-ligatures: normal\; font-variant-caps: normal\; -webkit-text-stroke-width: 0px\; text-decoration-style: initial\; text-decoration-color: initial\;"><span style="color: rgb(0\, 0\, 0)\; font-weight: bold\;">**Tires will be accepted $6.00 per tire</span></div>\n\n<div style="text-align: left\; color: rgb(123\, 110\, 101)\; text-transform: none\; text-indent: 0px\; letter-spacing: normal\; font-family: Arial\, Verdana\, Helvetica\, sans-serif\; font-size: 12px\; font-style: normal\; font-weight: 400\; word-spacing: 0px\; white-space: normal\; orphans: 2\; widows: 2\; background-color: rgb(209\, 230\, 209)\; font-variant-ligatures: normal\; font-variant-caps: normal\; -webkit-text-stroke-width: 0px\; text-decoration-style: initial\; text-decoration-color: initial\;"><span style="color: rgb(0\, 0\, 0)\; font-weight: bold\;">(no tractor tires) (tires on rims are twice the fee)</span></div>\n\n<div style="text-align: left\; color: rgb(123\, 110\, 101)\; text-transform: none\; text-indent: 0px\; letter-spacing: normal\; font-family: Arial\, Verdana\, Helvetica\, sans-serif\; font-size: 12px\; font-style: normal\; font-weight: 400\; word-spacing: 0px\; white-space: normal\; orphans: 2\; widows: 2\; background-color: rgb(209\, 230\, 209)\; font-variant-ligatures: normal\; font-variant-caps: normal\; -webkit-text-stroke-width: 0px\; text-decoration-style: initial\; text-decoration-color: initial\;"><span style="color: rgb(0\, 0\, 0)\; font-weight: bold\;">Excluded items: batteries\, paint cans\, rock\, asphalt\, concrete and brush. All hazardous waste such as chemicals\, herbicides and insecticides.</span></div>\n
LOCATION:
UID:e.2409.19284
SEQUENCE:3
DTSTAMP:20260426T040009Z
URL:https://business.elkrapidschamber.org/events/details/er-township-spring-clean-up-19284
END:VEVENT

END:VCALENDAR
