BEGIN:VCALENDAR
VERSION:2.0
PRODID:-//ChamberMaster//Event Calendar 2.0//EN
METHOD:PUBLISH
X-PUBLISHED-TTL:P3D
REFRESH-INTERVAL:P3D
CALSCALE:GREGORIAN
BEGIN:VEVENT
DTSTART:20190917T220000Z
DTEND:20190918T000000Z
X-MICROSOFT-CDO-ALLDAYEVENT:FALSE
SUMMARY:ER Schools Community Forum
DESCRIPTION:Hello all Elk Rapids community member\, friends and families! Please join us for our third community forum on\, Tuesday\, September 17th\, 2019 at 6:00 p.m. in the Cherryland Middle School cafeteria. We will be discussing the potential bond. GMB Architects will be present with initial renderings for consideration. We look forward to seeing you there!
X-ALT-DESC;FMTTYPE=text/html:<div style="color: rgb(0\, 0\, 0)\; font-family: &quot\;Lucida Grande&quot\;\, Verdana\, Arial\, Helvetica\, sans-serif\; font-size: 12px\; font-style: normal\; font-variant-ligatures: normal\; font-variant-caps: normal\; font-weight: 400\; letter-spacing: normal\; orphans: 2\; text-align: start\; text-indent: 0px\; text-transform: none\; white-space: normal\; widows: 2\; word-spacing: 0px\; -webkit-text-stroke-width: 0px\; background-color: rgb(255\, 255\, 255)\; text-decoration-style: initial\; text-decoration-color: initial\;"><span style="color: rgb(28\, 30\, 33)\; font-family: system-ui\, -apple-system\, system-ui\, &quot\;.SFNSText-Regular&quot\;\, sans-serif\; font-size: 14px\;">Hello all Elk Rapids community member\, friends and families! Please join us for our third community forum on\, Tuesday\, September 17th\, 2019 at 6:00 p.m. in the Cherryland Middle School cafeteria. We will be discussing the potential bond. GMB Architects will be present with initial renderings for consideration. We look forward to seeing you there!</span></div>\n\n<div style="color: rgb(0\, 0\, 0)\; font-family: &quot\;Lucida Grande&quot\;\, Verdana\, Arial\, Helvetica\, sans-serif\; font-size: 12px\; font-style: normal\; font-variant-ligatures: normal\; font-variant-caps: normal\; font-weight: 400\; letter-spacing: normal\; orphans: 2\; text-align: start\; text-indent: 0px\; text-transform: none\; white-space: normal\; widows: 2\; word-spacing: 0px\; -webkit-text-stroke-width: 0px\; background-color: rgb(255\, 255\, 255)\; text-decoration-style: initial\; text-decoration-color: initial\;">&nbsp\;</div>\n\n<div style="color: rgb(0\, 0\, 0)\; font-family: &quot\;Lucida Grande&quot\;\, Verdana\, Arial\, Helvetica\, sans-serif\; font-size: 12px\; font-style: normal\; font-variant-ligatures: normal\; font-variant-caps: normal\; font-weight: 400\; letter-spacing: normal\; orphans: 2\; text-align: start\; text-indent: 0px\; text-transform: none\; white-space: normal\; widows: 2\; word-spacing: 0px\; -webkit-text-stroke-width: 0px\; background-color: rgb(255\, 255\, 255)\; text-decoration-style: initial\; text-decoration-color: initial\;"><font color="#1c1e21" face="system-ui\, -apple-system\, system-ui\, .SFNSText-Regular\, sans-serif"><span style="font-size: 14px\;">&nbsp\;</span></font></div>\n
LOCATION:Cherryland Middle School Third Street Elk Rapids\, MI
UID:e.2409.21806
SEQUENCE:3
DTSTAMP:20260423T090602Z
URL:https://business.elkrapidschamber.org/events/details/er-schools-community-forum-21806
END:VEVENT

END:VCALENDAR
