BEGIN:VCALENDAR
VERSION:2.0
PRODID:-//ChamberMaster//Event Calendar 2.0//EN
METHOD:PUBLISH
X-PUBLISHED-TTL:P3D
REFRESH-INTERVAL:P3D
CALSCALE:GREGORIAN
BEGIN:VEVENT
DTSTART:20230604T190000Z
DTEND:20230604T220000Z
X-MICROSOFT-CDO-ALLDAYEVENT:FALSE
SUMMARY:ER School High School/Sunrise Academy Graduation
DESCRIPTION:
X-ALT-DESC;FMTTYPE=text/html:
LOCATION:New Hope Church
UID:e.2409.37560
SEQUENCE:3
DTSTAMP:20260420T010933Z
URL:https://business.elkrapidschamber.org/events/details/er-school-high-school-sunrise-academy-graduation-37560
END:VEVENT

END:VCALENDAR
