BEGIN:VCALENDAR
VERSION:2.0
PRODID:-//ChamberMaster//Event Calendar 2.0//EN
METHOD:PUBLISH
X-PUBLISHED-TTL:P3D
REFRESH-INTERVAL:P3D
CALSCALE:GREGORIAN
BEGIN:VEVENT
DTSTART:20191202T230000Z
DTEND:20191203T010000Z
X-MICROSOFT-CDO-ALLDAYEVENT:FALSE
SUMMARY:ER School Board Meeting
DESCRIPTION:Meetings are open to the public.
X-ALT-DESC;FMTTYPE=text/html:Meetings are open to the public.
LOCATION:Elk Rapids High School 308 Meguzee Point Rd. Room 124 Elk Rapids\, MI 4962
UID:e.2409.19794
SEQUENCE:3
DTSTAMP:20260419T142307Z
URL:https://business.elkrapidschamber.org/events/details/er-school-board-meeting-12-02-2019-19794
END:VEVENT

END:VCALENDAR
