BEGIN:VCALENDAR
VERSION:2.0
PRODID:-//ChamberMaster//Event Calendar 2.0//EN
METHOD:PUBLISH
X-PUBLISHED-TTL:P3D
REFRESH-INTERVAL:P3D
CALSCALE:GREGORIAN
BEGIN:VEVENT
DTSTART:20201012T213000Z
DTEND:20201012T230000Z
X-MICROSOFT-CDO-ALLDAYEVENT:FALSE
SUMMARY:ER School Board Meeting
DESCRIPTION:Meetings are open to the public.\n\nIn person Meeting\n\nSpecial Meeting at 5:30  Agenda\n\nRegular Meeting at 6:00 https://www.erschools.com/downloads/_news_/october_12-_regular_meeting_agenda.pdf
X-ALT-DESC;FMTTYPE=text/html:Meetings are open to the public.<br />\nIn person Meeting<br />\nSpecial Meeting at 5:30&nbsp\; <a href="https://www.erschools.com/downloads/_news_/special_meeting_agenda__10-12-2020.pdf">Agenda</a><br />\nRegular Meeting at 6:00 <a href="https://www.erschools.com/downloads/_news_/october_12-_regular_meeting_agenda.pdf">https://www.erschools.com/downloads/_news_/october_12-_regular_meeting_agenda.pdf</a>
LOCATION:Elk Rapids High School 308 Meguzee Point Rd. Room 124 Elk Rapids\, MI 4962
UID:e.2409.19804
SEQUENCE:3
DTSTAMP:20260422T025514Z
URL:https://business.elkrapidschamber.org/events/details/er-school-board-meeting-10-05-2020-19804
END:VEVENT

END:VCALENDAR
