BEGIN:VCALENDAR
VERSION:2.0
PRODID:-//ChamberMaster//Event Calendar 2.0//EN
METHOD:PUBLISH
X-PUBLISHED-TTL:P3D
REFRESH-INTERVAL:P3D
CALSCALE:GREGORIAN
BEGIN:VEVENT
DTSTART:20201019T230000Z
DTEND:20201020T010000Z
X-MICROSOFT-CDO-ALLDAYEVENT:FALSE
SUMMARY:ER Regular Village Council Meeting via Zoom
DESCRIPTION:Click for Agenda
X-ALT-DESC;FMTTYPE=text/html:<span style="font-size:16px\;"><strong><a href="https://www.elkrapids.org/wp-content/uploads/2020/10/Packet-10-19-20.pdf"><span style="color:#000000\;">Click for Agenda</span></a></strong></span>
LOCATION:Government Center 315 Bridge St Elk Rapids\, MI 49629
UID:e.2409.6901
SEQUENCE:3
DTSTAMP:20260422T025851Z
URL:https://business.elkrapidschamber.org/events/details/er-regular-village-council-meeting-via-zoom-10-19-2020-6901
END:VEVENT

END:VCALENDAR
