BEGIN:VCALENDAR
VERSION:2.0
PRODID:-//ChamberMaster//Event Calendar 2.0//EN
METHOD:PUBLISH
X-PUBLISHED-TTL:P3D
REFRESH-INTERVAL:P3D
CALSCALE:GREGORIAN
BEGIN:VEVENT
DTSTART:20191208T190000Z
DTEND:20191208T210000Z
X-MICROSOFT-CDO-ALLDAYEVENT:FALSE
SUMMARY:ER Project Graduation Fundraiser-Wooden Sign Painting
DESCRIPTION:
X-ALT-DESC;FMTTYPE=text/html:
LOCATION:United Engineered Tooling 1974 Cass-Hartman Court Traverse City
UID:e.2409.22398
SEQUENCE:3
DTSTAMP:20260419T143041Z
URL:https://business.elkrapidschamber.org/events/details/er-project-graduation-fundraiser-wooden-sign-painting-22398
END:VEVENT

END:VCALENDAR
