BEGIN:VCALENDAR
VERSION:2.0
PRODID:-//ChamberMaster//Event Calendar 2.0//EN
METHOD:PUBLISH
X-PUBLISHED-TTL:P3D
REFRESH-INTERVAL:P3D
CALSCALE:GREGORIAN
BEGIN:VEVENT
DTSTART:20190511T233000Z
DTEND:20190512T020000Z
X-MICROSOFT-CDO-ALLDAYEVENT:FALSE
SUMMARY:ER Players present ''Blithe Spirit''
DESCRIPTION:The Elk Rapids Players will be presenting the Noel Coward comedy "Blithe Spirit" directed by Rob Ford. Friday and Saturday shows strt at 7:30 p.m. and both Sunday matinee shows start at 2:00 p.m.\n\nNovelist Charles Condominehires a psychic medium to conduct a seance to rovide research for his upcoming book.  Things get interesting when the seance results in Charles' first wife\, Elvira\, returning in the form of a ghost.  "Blithe Spirit" is entertaining from start to finish..
X-ALT-DESC;FMTTYPE=text/html:The Elk Rapids Players will be presenting the Noel Coward comedy &quot\;Blithe Spirit&quot\; directed by Rob Ford. Friday and Saturday shows strt at 7:30 p.m. and both Sunday matinee shows start at 2:00 p.m.<br />\nNovelist Charles Condominehires a psychic medium to conduct a seance to rovide research for his upcoming book.&nbsp\; Things get interesting when the seance results in Charles&#39\; first wife\, Elvira\, returning in the form of a ghost.&nbsp\; &quot\;Blithe Spirit&quot\; is entertaining from start to finish..
LOCATION:Historics Town Hall 401 River Street Elk Rapid
UID:e.2409.18655
SEQUENCE:3
DTSTAMP:20260425T125602Z
URL:https://business.elkrapidschamber.org/events/details/er-players-present-blithe-spirit-05-11-2019-18655
END:VEVENT

END:VCALENDAR
