BEGIN:VCALENDAR
VERSION:2.0
PRODID:-//ChamberMaster//Event Calendar 2.0//EN
METHOD:PUBLISH
X-PUBLISHED-TTL:P3D
REFRESH-INTERVAL:P3D
CALSCALE:GREGORIAN
BEGIN:VEVENT
DTSTART:20230921T180000Z
DTEND:20230921T200000Z
X-MICROSOFT-CDO-ALLDAYEVENT:FALSE
SUMMARY:ER Knitters
DESCRIPTION:Meet every Thursday on the porch of the library with your knitting projects.
X-ALT-DESC;FMTTYPE=text/html:Meet every Thursday on the porch of the library with your knitting projects.
LOCATION:Elk Rapids District Library
UID:e.2409.39151
SEQUENCE:3
DTSTAMP:20260419T222010Z
URL:https://business.elkrapidschamber.org/events/details/er-knitters-09-21-2023-39151
END:VEVENT

END:VCALENDAR
