BEGIN:VCALENDAR
VERSION:2.0
PRODID:-//ChamberMaster//Event Calendar 2.0//EN
METHOD:PUBLISH
X-PUBLISHED-TTL:P3D
REFRESH-INTERVAL:P3D
CALSCALE:GREGORIAN
BEGIN:VEVENT
DTSTART:20220628T163000Z
DTEND:20220628T183000Z
X-MICROSOFT-CDO-ALLDAYEVENT:FALSE
SUMMARY:ER Garden Club presents Pam Shaw Cuddle Cottage Gardens
DESCRIPTION:Pam Shaw is the owner and curator of Cuddle Cottage gardens\, a unique collection of individual gardens designed and dedicated to friends and family spanning diverse settings from cottage garden style to woodland\, swamp\, bird and native gardens. Pam will give a tour and then explain the uniqueness of each garden\, its development\, and exhibit her massive archive of plant histories and growing experiences.
X-ALT-DESC;FMTTYPE=text/html:Pam Shaw is the owner and curator of Cuddle Cottage gardens\, a unique collection of individual gardens&nbsp\;designed and dedicated to friends and family spanning diverse settings from cottage garden style to woodland\,&nbsp\;swamp\, bird and native gardens. Pam will give a tour and then explain the&nbsp\;uniqueness of each garden\, its&nbsp\;development\, and exhibit her massive archive of plant histories and growing experiences.
LOCATION:At Cuddle Cottage Gardens Details to be announced.
UID:e.2409.28909
SEQUENCE:3
DTSTAMP:20260420T203108Z
URL:https://business.elkrapidschamber.org/events/details/er-garden-club-presents-pam-shaw-cuddle-cottage-gardens-28909
END:VEVENT

END:VCALENDAR
