BEGIN:VCALENDAR
VERSION:2.0
PRODID:-//ChamberMaster//Event Calendar 2.0//EN
METHOD:PUBLISH
X-PUBLISHED-TTL:P3D
REFRESH-INTERVAL:P3D
CALSCALE:GREGORIAN
BEGIN:VEVENT
DTSTART:20241022T163000Z
DTEND:20241022T180000Z
X-MICROSOFT-CDO-ALLDAYEVENT:FALSE
SUMMARY:ER Garden Club: Growing Cut Flowers Throughout the Season
DESCRIPTION:October 22nd | Growing Cut Flowers Throughout the Season\n\n\n\n\nPRESENTER: Natalie Peters\n\n \n\nNatalie Peters is the owner of Natalie's Petals\, a cut flower farm in Kewadin where she grows cut flowers and specializes in floral design. Her farm uses organic practices to provide the ideal growing conditions for cut flowers\, including crop rotation\, cover crops\, and beneficial insects. Natalie is a registered nurse and plans to combine her knowledge of both horticulture and healthcare. She will share some of her knowledge and tips on growing cut flowers from May to October\, the types of flowers to grow during each of these months\, and which wildflowers work well as cut flowers.\n\nLOCATION: First Presbyterian Church\n\nThank you to our hostesses: Sue Finlayson\, Kathy Horsley\, Leslie Schroen\, Kathy Sergent
X-ALT-DESC;FMTTYPE=text/html:<div class="et_pb_module et_pb_text et_pb_text_15  et_pb_text_align_left et_pb_bg_layout_light" style="box-sizing: border-box\; margin: 0px 0px 30px\; padding: 0px\; border: 0px\; outline: 0px\; font-size: 14px\; text-size-adjust: 100%\; vertical-align: baseline\; background: 50% center / cover no-repeat rgb(255\, 255\, 255)\; position: relative\; animation-timing-function: linear\; animation-duration: 0.2s\; overflow-wrap: break-word\; color: rgb(102\, 102\, 102)\; font-family: &quot\;Open Sans&quot\;\, Arial\, sans-serif\;">\n<div class="et_pb_text_inner" style="box-sizing: border-box\; margin: 0px\; padding: 0px\; border: 0px\; outline: 0px\; text-size-adjust: 100%\; vertical-align: baseline\; background: transparent\; position: relative\;">\n<h3 style="box-sizing: border-box\; margin: 0px\; padding: 0px 0px 10px\; border: 0px\; outline: 0px\; font-size: 22px\; text-size-adjust: 100%\; vertical-align: baseline\; background: transparent\; color: rgb(51\, 51\, 51)\; line-height: 1em\; font-weight: 500\;">October 22nd | Growing Cut Flowers Throughout the Season</h3>\n</div>\n</div>\n\n<div class="et_pb_module et_pb_text et_pb_text_16  et_pb_text_align_left et_pb_bg_layout_light" style="box-sizing: border-box\; margin: 0px\; padding: 0px\; border: 0px\; outline: 0px\; font-size: 14px\; text-size-adjust: 100%\; vertical-align: baseline\; background: 50% center / cover no-repeat rgb(255\, 255\, 255)\; position: relative\; animation-timing-function: linear\; animation-duration: 0.2s\; overflow-wrap: break-word\; color: rgb(102\, 102\, 102)\; font-family: &quot\;Open Sans&quot\;\, Arial\, sans-serif\;">\n<div class="et_pb_text_inner" style="box-sizing: border-box\; margin: 0px\; padding: 0px\; border: 0px\; outline: 0px\; text-size-adjust: 100%\; vertical-align: baseline\; background: transparent\; position: relative\;"><span style="box-sizing: border-box\; margin: 0px\; padding: 0px\; border: 0px\; outline: 0px\; text-size-adjust: 100%\; vertical-align: baseline\; background: transparent\; font-weight: 700\;">PRESENTER:&nbsp\;</span>Natalie Peters\n\n<p style="box-sizing: border-box\; margin: 0px\; padding: 0px 0px 1em\; border: 0px\; outline: 0px\; text-size-adjust: 100%\; vertical-align: baseline\; background: transparent\;">&nbsp\;</p>\n\n<p style="box-sizing: border-box\; margin: 0px\; padding: 0px 0px 1em\; border: 0px\; outline: 0px\; text-size-adjust: 100%\; vertical-align: baseline\; background: transparent\;">Natalie Peters is the owner of Natalie&rsquo\;s Petals\, a cut flower farm in Kewadin where she grows cut flowers and specializes in floral design. Her farm uses organic practices to provide the ideal growing conditions for cut flowers\, including crop rotation\, cover crops\, and beneficial insects. Natalie is a registered nurse and plans to combine her knowledge of both horticulture and healthcare. She will share some of her knowledge and tips on growing cut flowers from May to October\, the types of flowers to grow during each of these months\, and which wildflowers work well as cut flowers.</p>\n\n<p style="box-sizing: border-box\; margin: 0px\; padding: 0px 0px 1em\; border: 0px\; outline: 0px\; text-size-adjust: 100%\; vertical-align: baseline\; background: transparent\;"><span style="box-sizing: border-box\; margin: 0px\; padding: 0px\; border: 0px\; outline: 0px\; text-size-adjust: 100%\; vertical-align: baseline\; background: transparent\; font-weight: 700\;">LOCATION:</span>&nbsp\;<a href="https://goo.gl/maps/rwktUPhjQDSbQyXq9" rel="noopener" style="box-sizing: border-box\; text-decoration-line: none\; margin: 0px\; padding: 0px\; border: 0px\; outline: 0px\; text-size-adjust: 100%\; vertical-align: baseline\; background: transparent\; color: rgb(46\, 163\, 242)\;" target="_blank">First Presbyterian Church</a></p>\n\n<p style="box-sizing: border-box\; margin: 0px\; padding: 0px\; border: 0px\; outline: 0px\; text-size-adjust: 100%\; vertical-align: baseline\; background: transparent\;"><em style="box-sizing: border-box\; margin: 0px\; padding: 0px\; border: 0px\; outline: 0px\; text-size-adjust: 100%\; vertical-align: baseline\; background: transparent\;">Thank you to our hostesses: Sue Finlayson\, Kathy Horsley\, Leslie Schroen\, Kathy Sergent</em></p>\n</div>\n</div>\n
LOCATION:
UID:e.2409.44564
SEQUENCE:3
DTSTAMP:20260424T201652Z
URL:https://business.elkrapidschamber.org/events/details/er-garden-club-growing-cut-flowers-throughout-the-season-44564
END:VEVENT

END:VCALENDAR
