BEGIN:VCALENDAR
VERSION:2.0
PRODID:-//ChamberMaster//Event Calendar 2.0//EN
METHOD:PUBLISH
X-PUBLISHED-TTL:P3D
REFRESH-INTERVAL:P3D
CALSCALE:GREGORIAN
BEGIN:VEVENT
DTSTART:20191231T130000Z
DTEND:20191231T220000Z
X-MICROSOFT-CDO-ALLDAYEVENT:FALSE
SUMMARY:End of the Decade Sale
DESCRIPTION:End of the Decade Sale begins at 8:00 a.m.\n\nWear your pajamas for discounts!  The earlier your arrive\, the more the discount
X-ALT-DESC;FMTTYPE=text/html:End of the Decade Sale begins at 8:00 a.m.<br />\nWear your pajamas for discounts!&nbsp\; The earlier your arrive\, the more the discount
LOCATION:Elk Rapids
UID:e.2409.22465
SEQUENCE:3
DTSTAMP:20260419T141526Z
URL:https://business.elkrapidschamber.org/events/details/end-of-the-decade-sale-22465
END:VEVENT

END:VCALENDAR
