BEGIN:VCALENDAR
VERSION:2.0
PRODID:-//ChamberMaster//Event Calendar 2.0//EN
METHOD:PUBLISH
X-PUBLISHED-TTL:P3D
REFRESH-INTERVAL:P3D
CALSCALE:GREGORIAN
BEGIN:VEVENT
DTSTART:20241027T140000Z
DTEND:20241027T210000Z
X-MICROSOFT-CDO-ALLDAYEVENT:FALSE
SUMMARY:End of Harvest Party at Myrtle & Maude's
DESCRIPTION:Our busy apple harvest season is over and its time to PARTY! C'mon out to the farm for our LAST fall weekend! Vintage tractors parked around the farm along with local makers featuring their handmade goods and gifts!\n\nAdmission is FREE & Farmer Paul will be giving FREE educational farm tours around the farm!\n\nCome hungry! Farm to table lunch and treats! Apple barbeque pulled pork with fresh apple-slaw\, farm-fancy grilled cheese with a thick juicy slice of our home grown apples\, along with all of our other unique treats ~ Homemade apple pie parfaits\, apple cider slushies\, Maude's famous caramel apples\, farm fresh donuts & Grandma Birdie's homemade pies!\n\nEnjoy one LAST weekend here on the farm with us!\n\nLive Music\n\nPumpkin Painting\n\nShopping\n\nFarm animals - Patsy Cline (mini highpark cow)\, Willie Nelson & Waylon Jennings (dwarf goats) & chickens!\n\nYard Games\n\nFootball on the BIG screen!\n\nKids Play & Family Fun!
X-ALT-DESC;FMTTYPE=text/html:<div class="xdj266r x11i5rnm xat24cr x1mh8g0r x1vvkbs" style="margin: 0px\; overflow-wrap: break-word\; font-family: &quot\;Segoe UI Historic&quot\;\, &quot\;Segoe UI&quot\;\, Helvetica\, Arial\, sans-serif\; color: rgb(5\, 5\, 5)\; font-size: 15px\; background-color: rgb(255\, 255\, 255)\;">Our busy apple harvest season is over and its time to PARTY! C&#39\;mon out to the farm for our LAST fall weekend! Vintage tractors parked around the farm along with local makers featuring their handmade goods and gifts!</div>\n\n<div class="x11i5rnm xat24cr x1mh8g0r x1vvkbs xtlvy1s" style="margin: 0.5em 0px 0px\; overflow-wrap: break-word\; font-family: &quot\;Segoe UI Historic&quot\;\, &quot\;Segoe UI&quot\;\, Helvetica\, Arial\, sans-serif\; color: rgb(5\, 5\, 5)\; font-size: 15px\; background-color: rgb(255\, 255\, 255)\;">Admission is FREE &amp\; Farmer Paul will be giving FREE educational farm tours around the farm!</div>\n\n<div class="x11i5rnm xat24cr x1mh8g0r x1vvkbs xtlvy1s" style="margin: 0.5em 0px 0px\; overflow-wrap: break-word\; font-family: &quot\;Segoe UI Historic&quot\;\, &quot\;Segoe UI&quot\;\, Helvetica\, Arial\, sans-serif\; color: rgb(5\, 5\, 5)\; font-size: 15px\; background-color: rgb(255\, 255\, 255)\;">Come hungry! Farm to table lunch and treats! Apple barbeque pulled pork with fresh apple-slaw\, farm-fancy grilled cheese with a thick juicy slice of our home grown apples\, along with all of our other unique treats ~ Homemade apple pie parfaits\, apple cider slushies\, Maude&#39\;s famous caramel apples\, farm fresh donuts &amp\; Grandma Birdie&#39\;s homemade pies!</div>\n\n<div class="x11i5rnm xat24cr x1mh8g0r x1vvkbs xtlvy1s" style="margin: 0.5em 0px 0px\; overflow-wrap: break-word\; font-family: &quot\;Segoe UI Historic&quot\;\, &quot\;Segoe UI&quot\;\, Helvetica\, Arial\, sans-serif\; color: rgb(5\, 5\, 5)\; font-size: 15px\; background-color: rgb(255\, 255\, 255)\;">Enjoy one LAST weekend here on the farm with us!</div>\n\n<div class="x11i5rnm xat24cr x1mh8g0r x1vvkbs xtlvy1s" style="margin: 0.5em 0px 0px\; overflow-wrap: break-word\; font-family: &quot\;Segoe UI Historic&quot\;\, &quot\;Segoe UI&quot\;\, Helvetica\, Arial\, sans-serif\; color: rgb(5\, 5\, 5)\; font-size: 15px\; background-color: rgb(255\, 255\, 255)\;">Live Music<br class="html-br" />\nPumpkin Painting<br class="html-br" />\nShopping<br class="html-br" />\nFarm animals - Patsy Cline (mini highpark cow)\, Willie Nelson &amp\; Waylon Jennings (dwarf goats) &amp\; chickens!<br class="html-br" />\nYard Games<br class="html-br" />\nFootball on the BIG screen!<br class="html-br" />\nKids Play &amp\; Family Fun!</div>\n
LOCATION:10981 Elk Lake Rd. Williamsburg\, MI 49690
UID:e.2409.45337
SEQUENCE:3
DTSTAMP:20260424T201558Z
URL:https://business.elkrapidschamber.org/events/details/end-of-harvest-party-at-myrtle-maude-s-45337
END:VEVENT

END:VCALENDAR
