BEGIN:VCALENDAR
VERSION:2.0
PRODID:-//ChamberMaster//Event Calendar 2.0//EN
METHOD:PUBLISH
X-PUBLISHED-TTL:P3D
REFRESH-INTERVAL:P3D
CALSCALE:GREGORIAN
BEGIN:VEVENT
DTSTART:20191205T230000Z
DTEND:20191206T010000Z
X-MICROSOFT-CDO-ALLDAYEVENT:FALSE
SUMMARY:Elk Rapids Women Christmas Party
DESCRIPTION:Join us for our annual holiday potluck and gift exchange auction - a fundraiser for our scholarship program! Non-members and spouses welcome!\n\nRSVP to elkrapidswomen@gmail.com
X-ALT-DESC;FMTTYPE=text/html:<div style="text-align: left\; color: rgb(40\, 52\, 100)\; text-transform: none\; text-indent: 0px\; letter-spacing: normal\; font-family: Helvetica\, Arial\, sans-serif\; font-style: normal\; font-weight: normal\; word-spacing: 0px\; white-space: normal\; orphans: 2\; widows: 2\; background-color: rgb(252\, 250\, 202)\; font-variant-ligatures: normal\; font-variant-caps: normal\; -webkit-text-stroke-width: 0px\;">\n<p class="gmail-MsoNormalCxSpMiddle" style=""><span style="font-size: 16px\;">Join us for our annual holiday potluck and gift exchange auction - a fundraiser for our scholarship program! Non-members and spouses welcome!<br />\nRSVP to elkrapidswomen@gmail.com</span>&nbsp\;&nbsp\;&nbsp\;&nbsp\;</p>\n</div>\n
LOCATION:Ethanology
UID:e.2409.22401
SEQUENCE:3
DTSTAMP:20260419T142429Z
URL:https://business.elkrapidschamber.org/events/details/elk-rapids-women-christmas-party-22401
END:VEVENT

END:VCALENDAR
