BEGIN:VCALENDAR
VERSION:2.0
PRODID:-//ChamberMaster//Event Calendar 2.0//EN
METHOD:PUBLISH
X-PUBLISHED-TTL:P3D
REFRESH-INTERVAL:P3D
CALSCALE:GREGORIAN
BEGIN:VEVENT
DTSTART:20210219T000000Z
DTEND:20210219T020000Z
X-MICROSOFT-CDO-ALLDAYEVENT:FALSE
SUMMARY:ZBA Elk Rapids Meeting
DESCRIPTION:
X-ALT-DESC;FMTTYPE=text/html:
LOCATION:Government Center 315 Bridge St Elk Rapids\, MI 49629
UID:e.2409.15697
SEQUENCE:3
DTSTAMP:20260421T205850Z
URL:https://business.elkrapidschamber.org/events/details/elk-rapids-township-zba-meeting-02-18-2021-15697
END:VEVENT

END:VCALENDAR
