BEGIN:VCALENDAR
VERSION:2.0
PRODID:-//ChamberMaster//Event Calendar 2.0//EN
METHOD:PUBLISH
X-PUBLISHED-TTL:P3D
REFRESH-INTERVAL:P3D
CALSCALE:GREGORIAN
BEGIN:VEVENT
DTSTART:20201103T000000Z
DTEND:20201103T020000Z
X-MICROSOFT-CDO-ALLDAYEVENT:FALSE
SUMMARY:ER Village Council Meeting
DESCRIPTION:Click for Agenda
X-ALT-DESC;FMTTYPE=text/html:<strong><a href="https://www.elkrapids.org/wp-content/uploads/2020/10/Packet-11-2-20.pdf"><span style="color:#0000FF\;">Click for Agenda</span></a></strong>
LOCATION:Government Center 315 Bridge St Elk Rapids\, MI 49629
UID:e.2409.6778
SEQUENCE:3
DTSTAMP:20260422T013227Z
URL:https://business.elkrapidschamber.org/events/details/elk-rapids-regular-village-council-meeting-11-02-2020-6778
END:VEVENT

END:VCALENDAR
