BEGIN:VCALENDAR
VERSION:2.0
PRODID:-//ChamberMaster//Event Calendar 2.0//EN
METHOD:PUBLISH
X-PUBLISHED-TTL:P3D
REFRESH-INTERVAL:P3D
CALSCALE:GREGORIAN
BEGIN:VEVENT
DTSTART:20200720T230000Z
DTEND:20200721T010000Z
X-MICROSOFT-CDO-ALLDAYEVENT:FALSE
SUMMARY:ER Regular Village Council Meeting
DESCRIPTION:Agenda: https://www.elkrapids.org/wp-content/uploads/2020/07/Packet-7-20-20.pdf
X-ALT-DESC;FMTTYPE=text/html:Agenda:&nbsp\;<a href="https://www.elkrapids.org/wp-content/uploads/2020/07/Packet-7-20-20.pdf">https://www.elkrapids.org/wp-content/uploads/2020/07/Packet-7-20-20.pdf</a>
LOCATION:Via ZOOM
UID:e.2409.6898
SEQUENCE:3
DTSTAMP:20260422T073717Z
URL:https://business.elkrapidschamber.org/events/details/elk-rapids-regular-village-council-meeting-07-20-2020-6898
END:VEVENT

END:VCALENDAR
