BEGIN:VCALENDAR
VERSION:2.0
PRODID:-//ChamberMaster//Event Calendar 2.0//EN
METHOD:PUBLISH
X-PUBLISHED-TTL:P3D
REFRESH-INTERVAL:P3D
CALSCALE:GREGORIAN
BEGIN:VEVENT
DTSTART:20210202T000000Z
DTEND:20210202T020000Z
X-MICROSOFT-CDO-ALLDAYEVENT:FALSE
SUMMARY:ER Village Council Meeting
DESCRIPTION:Agenda and Zoom Instructions
X-ALT-DESC;FMTTYPE=text/html:<a href="https://www.elkrapids.org/wp-content/uploads/2021/01/PACKET-1-2-1-21.pdf">Agenda and Zoom Instructions</a>
LOCATION:Virtual Meeting
UID:e.2409.6781
SEQUENCE:3
DTSTAMP:20260421T205845Z
URL:https://business.elkrapidschamber.org/events/details/elk-rapids-regular-village-council-meeting-02-01-2021-6781
END:VEVENT

END:VCALENDAR
